BEGIN:VCALENDAR
VERSION:2.0
PRODID:-//wp-events-plugin.com//7.2.3.1//EN
TZID:Europe/Warsaw
X-WR-TIMEZONE:Europe/Warsaw
BEGIN:VEVENT
UID:33573@night4u.pl
DTSTART;TZID=Europe/Warsaw:20191029T210000
DTEND;TZID=Europe/Warsaw:20191030T040000
DTSTAMP:20191029T224420Z
URL:https://night4u.pl/wydarzenia/wtorek_studencki-halloween_party_awf/
SUMMARY:WTOREK_Studencki #Halloween_Party_AWF
DESCRIPTION:Samorzad AWF zaprasza na Halloween . Nie ma drugiej Takiej Impr
 ezy w Roku! Zapraszamy na Wieczór Pełen Grozy! A wszystko w Studencki Kl
 imacie! \n\n#### Impreza PRzebierana ####\nSTUDENCKI HALLOWEEN \nCzyli Naj
 straszniejsza Imprza Studencka oRoku\n\n1. Wszystkie Strachy\, Wiedźmy Du
 chy i Inne Stwory Maja Welcome Krwawy Drinka na Wejściu\n2. Na ten Wiecz
 ór Klub Gramofon Zmieni się w Straszny Dom\;)\n3. Przebrana Straszliwa O
 bsługa!\n4. Konkurs na Najlepsze Przebranie! Do Wygrania Flaszka \;)\n\n\
 nDo Tego: \nDj Drakula &amp\; Dj Strach\n_________________________________
 ________________\nStudenci Wstęp Free do 23:00
ATTACH;FMTTYPE=image/jpeg:https://night4u.pl/wp-content/uploads/2019/10/84
 368_image_73009020_2620804127970923_4584053083608186880_o.jpg
CATEGORIES:lubelskie
LOCATION:Klub Gramofon\, Biała Podlaska\, Poland
GEO:52.03268;23.120489
X-APPLE-STRUCTURED-LOCATION;VALUE=URI;X-ADDRESS=Biała Podlaska\, Poland;X-
 APPLE-RADIUS=100;X-TITLE=Klub Gramofon:geo:52.03268,23.120489
END:VEVENT
BEGIN:VTIMEZONE
TZID:Europe/Warsaw
X-LIC-LOCATION:Europe/Warsaw
BEGIN:STANDARD
DTSTART:20191027T020000
TZOFFSETFROM:+0200
TZOFFSETTO:+0100
TZNAME:CET
END:STANDARD
END:VTIMEZONE
END:VCALENDAR