BEGIN:VCALENDAR
VERSION:2.0
PRODID:-//wp-events-plugin.com//7.2.3.1//EN
TZID:Europe/Warsaw
X-WR-TIMEZONE:Europe/Warsaw
BEGIN:VEVENT
UID:3703@night4u.pl
DTSTART;TZID=Europe/Warsaw:20190312T220000
DTEND;TZID=Europe/Warsaw:20190313T060000
DTSTAMP:20190116T101544Z
URL:https://night4u.pl/wydarzenia/wtorkowy-melanz-na-dyskotece-wjazd-free-
 3/
SUMMARY:Wtorkowy Melanż Na Dyskotece // Wjazd Free
DESCRIPTION:KAŻDY WTOREK PRZENOSIMY SIĘ W LATA MINIONE ♥\nTa noc upłyn
 ie miło wśród hitów '90 & 00' i nie tylko ♥\n\nI DO TEGO UBIERAMY SI
 Ę JAK CHCEMY :) im bardziej Kiczowate Feszyn tym lepiej ♥ ♥ ♥\n\nTo
  nowy cykl\, nowe oblicze studenckich imprez w Poznaniu. \n\nNiby kicz\, a
  wstydu nie ma! \n\nPunkt 1) U Nas każdy jest sobą! \nPunkt 2) Patrz pun
 kt 1. U Nas każdy jest sobą! :)\n\nCo tydzień nowa impreza tematyczna. 
 Zapytacie...ale jak ???\n\nA wjazd za darmoszkę\, FREE\, za nic\, jak zwa
 ł tak zwał.\n\nDo tego KARAOKE i tu także NOWOŚĆ.\n\nHAH FACTOR\, czy
 li szukamy talentów wokalnych. A jeśli stałeś w kolejce po co innego n
 iż cudny głos\, to nic straconego. Możesz nadrobić zacięciem sceniczn
 ym\, a nóż wideleć odkryjesz w sobie prawdziwe zwierzę entertajmentu. 
 Do wygrania full nagród i miejsce w ogólnopolskim finale śpiewu.\n\nPRO
 MO NA BARACH !!!!!!\n\nHAPPY HOURS >>>>> 22:00 DO 00:00 
ATTACH;FMTTYPE=image/jpeg:https://night4u.pl/wp-content/uploads/2019/01/11
 622_image_35422365_1820930077998951_3809026806275637248_o.jpg
CATEGORIES:wielkopolskie
LOCATION:HAH Poznań\, ul. Małe Garbary 6\, Poznan\, 61-756\, Poland
GEO:52.411608;16.936092
X-APPLE-STRUCTURED-LOCATION;VALUE=URI;X-ADDRESS=ul. Małe Garbary 6\, Pozna
 n\, 61-756\, Poland;X-APPLE-RADIUS=100;X-TITLE=HAH Poznań:geo:52.411608,1
 6.936092
END:VEVENT
BEGIN:VTIMEZONE
TZID:Europe/Warsaw
X-LIC-LOCATION:Europe/Warsaw
BEGIN:STANDARD
DTSTART:20181028T020000
TZOFFSETFROM:+0200
TZOFFSETTO:+0100
TZNAME:CET
END:STANDARD
END:VTIMEZONE
END:VCALENDAR