BEGIN:VCALENDAR
VERSION:2.0
PRODID:-//wp-events-plugin.com//7.2.3.1//EN
TZID:Europe/Warsaw
X-WR-TIMEZONE:Europe/Warsaw
BEGIN:VEVENT
UID:24423@night4u.pl
DTSTART;TZID=Europe/Warsaw:20190810T210000
DTEND;TZID=Europe/Warsaw:20190811T050000
DTSTAMP:20190809T215116Z
URL:https://night4u.pl/wydarzenia/wybory-weselnego-mistera-polski-przystoj
 na-impreza/
SUMMARY:Wybory Weselnego Mistera Polski! - Przystojna Impreza
DESCRIPTION:Zapraszamy serdecznie na Wybory WESELNEGO MISTERA POLSKI! \n\n
 ♕Wybory WESELNEGO MISTERA POLSKI!♕\n\nGALA WYBORÓW WESELNEGO MISTERA 
 POLSKI JUŻ W SOBOTĘ! To będzie przystojna impreza... :)\n\n✴✴✴✴
 ✴✴✴✴✴✴✴✴✴\n\nSTART: 21:00\n\nSZYKUJCIE SIĘ NA WIELKIE D
 ISCO !!!\n\nObecność obowiązkowa!\n♕DYSKOTEKA WESELE♕\n✴✴✴✴
 ✴✴✴✴✴✴✴✴✴\nChcesz lożę? zadzwoń Tel.+48 791 998 805\n
 PRZYJEDŹ DO KLUBU LIMUZYNĄ ZA DARMO: 793 687 997\n✴✴✴✴✴✴✴
 ✴✴✴✴✴✴\nInsta: DyskotekaWeseleŁeba\n✴✴✴✴✴✴✴✴
 ✴✴✴✴✴\n\n✴✴✴✴✴✴✴✴✴✴✴✴✴\n♕DYSKOTEKA W
 ESELE♕\nJesteśmy otwarci codziennie od 21 do RANA!\n\nPiątki i Soboty 
 - Prawdziwe Wesele z Młodą Parą\, Zabawami Weselnymi\, Wiejskim Stoliki
 em! Podwozimy naszych gości limuzyną!\n\nul. Wojska Polskiego 20\nwww.dy
 skotekaleba.pl\nInformacje i Współpraca: Tel.+48 791 998 805
ATTACH;FMTTYPE=image/jpeg:https://night4u.pl/wp-content/uploads/2019/08/57
 483_image_67632228_2152977371668316_7759028389259771904_o.jpg
CATEGORIES:pomorskie
LOCATION:Dyskoteka Wesele Łeba\, Wojska Polskiego\, Łeba\, 84-360\, Polan
 d
GEO:54.762309;17.55529
X-APPLE-STRUCTURED-LOCATION;VALUE=URI;X-ADDRESS=Wojska Polskiego\, Łeba\, 
 84-360\, Poland;X-APPLE-RADIUS=100;X-TITLE=Dyskoteka Wesele Łeba:geo:54.7
 62309,17.55529
END:VEVENT
BEGIN:VTIMEZONE
TZID:Europe/Warsaw
X-LIC-LOCATION:Europe/Warsaw
BEGIN:DAYLIGHT
DTSTART:20190331T030000
TZOFFSETFROM:+0100
TZOFFSETTO:+0200
TZNAME:CEST
END:DAYLIGHT
END:VTIMEZONE
END:VCALENDAR