BEGIN:VCALENDAR
VERSION:2.0
PRODID:-//wp-events-plugin.com//7.2.3.1//EN
TZID:Europe/Warsaw
X-WR-TIMEZONE:Europe/Warsaw
BEGIN:VEVENT
UID:21267@night4u.pl
DTSTART;TZID=Europe/Warsaw:20190719T210000
DTEND;TZID=Europe/Warsaw:20190721T050000
DTSTAMP:20190704T192435Z
URL:https://night4u.pl/wydarzenia/wybory-weselnej-miss-polski-2019-wybory-
 i-casting/
SUMMARY:Wybory Weselnej MISS Polski 2019 Wybory i Casting!
DESCRIPTION:Zapraszamy serdecznie na Wybory WESELNEJ MISS POLSKI! Lipiec 20
 19! \n\n♕Wybory WESELNEJ MISS POLSKI!♕\n\nHARMONOGRAM WYDARZENIA:\nPi
 ątek  18:00 - Parada Kandydatek\nPiątek  23:00 - Prezentacja kandydatek 
 na MISS & impreza do rana z dziewczynami!\nSobota 00:00 - Wielka Gala wybo
 rów Miss i gorące AFTER PARTY aż do świtu!!!\n\nKandydatki zaprezentuj
 ę się nam w kreacjach:\n
ATTACH;FMTTYPE=image/jpeg:https://night4u.pl/wp-content/uploads/2019/07/50
 706_image_60989289_2103496953283025_8866868534148333568_o.jpg
CATEGORIES:pomorskie
LOCATION:Dyskoteka Wesele Łeba\, Wojska Polskiego\, Łeba\, 84-360\, Polan
 d
GEO:54.762309;17.55529
X-APPLE-STRUCTURED-LOCATION;VALUE=URI;X-ADDRESS=Wojska Polskiego\, Łeba\, 
 84-360\, Poland;X-APPLE-RADIUS=100;X-TITLE=Dyskoteka Wesele Łeba:geo:54.7
 62309,17.55529
END:VEVENT
BEGIN:VTIMEZONE
TZID:Europe/Warsaw
X-LIC-LOCATION:Europe/Warsaw
BEGIN:DAYLIGHT
DTSTART:20190331T030000
TZOFFSETFROM:+0100
TZOFFSETTO:+0200
TZNAME:CEST
END:DAYLIGHT
END:VTIMEZONE
END:VCALENDAR