BEGIN:VCALENDAR
VERSION:2.0
PRODID:-//wp-events-plugin.com//7.2.3.1//EN
TZID:Europe/Warsaw
X-WR-TIMEZONE:Europe/Warsaw
BEGIN:VEVENT
UID:32596@night4u.pl
DTSTART;TZID=Europe/Warsaw:20191023T210000
DTEND;TZID=Europe/Warsaw:20191024T030000
DTSTAMP:20200401T080750Z
URL:https://night4u.pl/wydarzenia/wydzialowka-lesnikow/
SUMMARY:Wydziałówka Leśników
DESCRIPTION:Siemanko!\nWyczekiwana od dawna pierwsza w tym roku Wydziałów
 ka Leśników! \nZaczynamy oczywiście w Klubie 9stóp\,\n23 października
  o 21:00!!\nCeny na barze:\n-Piwo 7zł\n-Shoot 5zł\n-Drink na wódce 10z
 ł\n-Wino 8zł\n-Whiskey+pepsi 10zł\nZabierajcie swoich znajomych i widzi
 my się na miejscu!
ATTACH;FMTTYPE=image/jpeg:https://night4u.pl/wp-content/uploads/2019/10/78
 680_image_72089203_2795739600450701_7739316044149293056_n.jpg
CATEGORIES:wielkopolskie
LOCATION:Klub 9stóp\, Piątkowska 92\, Poznan\, 60-649\, Poland
GEO:52.429505;16.917341
X-APPLE-STRUCTURED-LOCATION;VALUE=URI;X-ADDRESS=Piątkowska 92\, Poznan\, 6
 0-649\, Poland;X-APPLE-RADIUS=100;X-TITLE=Klub 9stóp:geo:52.429505,16.917
 341
END:VEVENT
BEGIN:VTIMEZONE
TZID:Europe/Warsaw
X-LIC-LOCATION:Europe/Warsaw
BEGIN:DAYLIGHT
DTSTART:20190331T030000
TZOFFSETFROM:+0100
TZOFFSETTO:+0200
TZNAME:CEST
END:DAYLIGHT
END:VTIMEZONE
END:VCALENDAR