BEGIN:VCALENDAR
VERSION:2.0
PRODID:-//wp-events-plugin.com//7.2.3.1//EN
TZID:Europe/Warsaw
X-WR-TIMEZONE:Europe/Warsaw
BEGIN:VEVENT
UID:49213@night4u.pl
DTSTART;TZID=Europe/Warsaw:20200305T220000
DTEND;TZID=Europe/Warsaw:20200306T040000
DTSTAMP:20200305T051711Z
URL:https://night4u.pl/wydarzenia/wydzialowka-wszystkich-wydzialow-girls-n
 ight/
SUMMARY:Wydziałówka Wszystkich Wydziałów ! Girls Night !
DESCRIPTION:Legendarna 🎉\, jedyna w swoim rodzaju\, niepowtarzalna i wyj
 ątkowa\, a przede wszystkim z okazji niesamowitego dnia 👉🏻Wydział
 ówka Wszystkich Wydziałów 👈🏻 nadchodzi wielkimi krokami! 🔥\nGd
 zie? Kiedy? I dlaczego?\n💫 Klub Studio\n💫 5 marca - godzina 22:00\n
 💫 Z okazji Dnia Kobiet!\nWidzisz? 🤷🏻‍♀️ Wszystko gotowe! Je
 dyne o co musisz się zatroszczyć to o towarzystwo! 👫🏽\nChłopaku w
 eź swoją dziewczynę\, aby wyjątkowo świętować z nią ten dzień! 
 🌷Dziewczyno przypomnij chłopakowi\, że masz święto\, a przy okazji 
 złóż mu życzenia z okazji nadchodzącego Dnia Mężczyzny! 🤩 \nMamy
  także rozwiązanie dla singli! 🙈 Dziewczyny zbierajcie koleżanki i c
 zym prędzej przychodźcie na imprezę\, ponieważ 5️⃣0️⃣ z Was\, 
 które przyjdą jako pierwsze otrzymają od nas darmowe piwo! 🍻 Chłopa
 ki razem z kolegami wybierzcie się poznać nowe koleżanki. 😎 Na wszys
 tkich Was na miejscu czekać będzie fotolustro. 📸 A po wydarzeniu uka
 że się fotorelacja przygotowana przez KSAF! 😍\nZe względu na duże z
 ainteresowanie\, z jakim spotkaliśmy się ostatnim razem z Waszej strony\
 , tym razem sugerujemy przyjść na imprezę wcześniej ⏰. W przypadku p
 rzepełnienia klubu nie będzie możliwości do niego wejść. ☹️
ATTACH;FMTTYPE=image/jpeg:https://night4u.pl/wp-content/uploads/2020/03/17
 0430_image_87790358_2827243487313730_8292865559700176896_o.jpg
CATEGORIES:małopolskie
LOCATION:Klub Studio\, Budryka 4\, Kraków\, 30-072\, Poland
GEO:50.068057;19.908264
X-APPLE-STRUCTURED-LOCATION;VALUE=URI;X-ADDRESS=Budryka 4\, Kraków\, 30-07
 2\, Poland;X-APPLE-RADIUS=100;X-TITLE=Klub Studio:geo:50.068057,19.908264
END:VEVENT
BEGIN:VTIMEZONE
TZID:Europe/Warsaw
X-LIC-LOCATION:Europe/Warsaw
BEGIN:STANDARD
DTSTART:20191027T020000
TZOFFSETFROM:+0200
TZOFFSETTO:+0100
TZNAME:CET
END:STANDARD
END:VTIMEZONE
END:VCALENDAR