BEGIN:VCALENDAR
VERSION:2.0
PRODID:-//wp-events-plugin.com//7.2.3.1//EN
TZID:Europe/Warsaw
X-WR-TIMEZONE:Europe/Warsaw
BEGIN:VEVENT
UID:18336@night4u.pl
DTSTART;TZID=Europe/Warsaw:20190619T210400
DTEND;TZID=Europe/Warsaw:20190620T050400
DTSTAMP:20190605T205402Z
URL:https://night4u.pl/wydarzenia/wyjechali-na-wakacje-wszyscy-nasi-podopi
 eczni/
SUMMARY:Wyjechali na wakacje wszyscy nasi podopieczni !
DESCRIPTION:Kochamy nasze dzieci\, a jeszcze bardziej kochamy je jak wyjad
 ą.W środę  świętujemy  wakacje - jeśli wiecie \, o czym ja mówię :
 )\n\nPamiętaj : pieniądze masz w portfelu\, telefon w plecaku\, jedzenie
  na drogę w torebce\, ciepłe majtki w bocznej kieszonce\, podkoszulki u
 łożone na spodzie\, smaruj się olejkiem\, pryskaj na komary\, słuchaj 
 się opiekunów\, dzwoń codziennie\, nie rób głupot\, nie siadaj z tył
 u\,  bądź mądry.\,  nie pływaj\, nie nurkuj\, nie pyskuj\, nie kładź
  się późno spać\, nie narób wstydu. Buzi\, buzi\, mokre oczy\, machni
 ęcie chusteczką i.......\n"Jedna flaszka\, druga flaszka i też trzecia\
 , kurde bele\, leci \nWyjechali na wakacje wszyscy nasi podopieczni \nGdy 
 nie ma dzieci w domu - to jesteśmy niegrzeczni !"\n\n\nRezerwacja stolik
 ów\, kanapek i krzesełek pieknai@pieknapszczola.pl\, ☎ 696 43 23 53. O
 d 20.00 zapraszamy na   #najlepszytaraswmiescie (IV piętro CSK)\n????????
 \n\n?? - Miłosz\nkarty klubowe i zaproszenia - za darmo\nrodzice z kartą
  dużej rodziny - za darmo \nbezdzietni rodzice - 50 zł\ncywile po 22 - 1
 0 zł\ndzieci poniżej 25 lat nie wchodzą\, bo wyjechały. Chyba\, że pr
 zyjechały i wydadzą całe kieszonkowe\, czyli 250 zł\, \nwtedy nic nas 
 nie interesuje.\n#najgorszyklubwmiescie
ATTACH;FMTTYPE=image/jpeg:https://night4u.pl/wp-content/uploads/2019/06/44
 299_image_62229711_290957464990018_4695711242482876416_n.jpg
CATEGORIES:lubelskie
LOCATION:Piękna Pszczoła\, Plac Teatralny 1 (Budynek CSK)\, Lublin\, 20-0
 37\, Poland
GEO:51.246524;22.548666
X-APPLE-STRUCTURED-LOCATION;VALUE=URI;X-ADDRESS=Plac Teatralny 1 (Budynek C
 SK)\, Lublin\, 20-037\, Poland;X-APPLE-RADIUS=100;X-TITLE=Piękna Pszczoł
 a:geo:51.246524,22.548666
END:VEVENT
BEGIN:VTIMEZONE
TZID:Europe/Warsaw
X-LIC-LOCATION:Europe/Warsaw
BEGIN:DAYLIGHT
DTSTART:20190331T030000
TZOFFSETFROM:+0100
TZOFFSETTO:+0200
TZNAME:CEST
END:DAYLIGHT
END:VTIMEZONE
END:VCALENDAR