BEGIN:VCALENDAR
VERSION:2.0
PRODID:-//wp-events-plugin.com//7.2.3.1//EN
TZID:Europe/Warsaw
X-WR-TIMEZONE:Europe/Warsaw
BEGIN:VEVENT
UID:48741@night4u.pl
DTSTART;TZID=Europe/Warsaw:20200228T200000
DTEND;TZID=Europe/Warsaw:20200228T220000
DTSTAMP:20200228T193130Z
URL:https://night4u.pl/wydarzenia/wyprzedane-koscierzyna-katarzyna-piaseck
 a-karma-wraca/
SUMMARY:Wyprzedane | Kościerzyna - Katarzyna Piasecka "Karma wraca"
DESCRIPTION:Katarzyna Piasecka w najnowszym programie stand-up comedy "KARM
 A WRACA". Nowe historie\, nowe spostrzeżenia i kawał śmiesznego program
 u. Wszystko w niezmiennie charyzmatycznej\, bezpośredniej i bezkompromiso
 wej formie. Gospodarz sceny: Adam Van Bendler.\n\nhttp://katarzynapiasecka
 .pl &lt\;-- wszystkie aktualne terminy\nhttp://instagram.com/katarzynapias
 ecka\nhttp://youtube.com/katarzynapiasecka\nhttp://facebook.com/katarzynap
 iasecka\n\nBilety 35 zł.\nhttps://www.kupbilecik.pl/imprezy/46883/Koście
 rzyna/Katarzyna+Piasecka/\n\n* Wydarzenie dla widzów dorosłych\n* Zakaz 
 narywania zarówno video\, jak i audio
ATTACH;FMTTYPE=image/jpeg:https://night4u.pl/wp-content/uploads/2020/02/16
 6629_image_84179161_189186105789741_3718513243845558272_n.jpg
CATEGORIES:pomorskie
LOCATION:Stary Browar Kościerzyna\, Słodowa 3\, Koscierzyna\, 83-400\, Po
 land
GEO:54.122462;17.975933
X-APPLE-STRUCTURED-LOCATION;VALUE=URI;X-ADDRESS=Słodowa 3\, Koscierzyna\, 
 83-400\, Poland;X-APPLE-RADIUS=100;X-TITLE=Stary Browar Kościerzyna:geo:5
 4.122462,17.975933
END:VEVENT
BEGIN:VTIMEZONE
TZID:Europe/Warsaw
X-LIC-LOCATION:Europe/Warsaw
BEGIN:STANDARD
DTSTART:20191027T020000
TZOFFSETFROM:+0200
TZOFFSETTO:+0100
TZNAME:CET
END:STANDARD
END:VTIMEZONE
END:VCALENDAR