BEGIN:VCALENDAR
VERSION:2.0
PRODID:-//wp-events-plugin.com//7.2.3.1//EN
TZID:Europe/Warsaw
X-WR-TIMEZONE:Europe/Warsaw
BEGIN:VEVENT
UID:33034@night4u.pl
DTSTART;TZID=Europe/Warsaw:20191025T220000
DTEND;TZID=Europe/Warsaw:20191026T050000
DTSTAMP:20191026T002912Z
URL:https://night4u.pl/wydarzenia/wysokie-szpilki-x-dj-twister-x-piatek-25
 -10/
SUMMARY:Wysokie szpilki x dj Twister x piątek 25.10
DESCRIPTION:✅Piątek\n✅Piąteczek\n✅Piątunio\n\n⚡️A w Wysokich T
 onach zawsze piątki celebrujemy z klasą🔝\n\n⚡️Za dj'kę wskakuje 
 tego wieczoru prawdziwy artysta decków Dj Twister 😈😈\n\n⚠️Jak c
 o piątek wszystkie Panie wchodzą totalnie za 🆓🆓🆓\n⚠️Do tego
  nasze piątkowe promo na barze\n\n⚡️ start 22:00 \nwstęp / ze wzglę
 du na komfort i bezpieczeństwo naszych gości zastrzegamy sobie prawo do 
 selekcji\n\nRezerwacje: ☎️602 748 814 ☎️\n\n🥂🎼 Do zobaczenia
  w Wysokich🎼🥂
ATTACH;FMTTYPE=image/jpeg:https://night4u.pl/wp-content/uploads/2019/10/81
 275_image_72921767_2485791311697782_8752530401580285952_o.jpg
CATEGORIES:podlaskie
LOCATION:Wysokie Tony\, Marii Skłodowskiej Curie 2\, Białystok\, 15-097\,
  Poland
GEO:53.12982;23.15624
X-APPLE-STRUCTURED-LOCATION;VALUE=URI;X-ADDRESS=Marii Skłodowskiej Curie 2
 \, Białystok\, 15-097\, Poland;X-APPLE-RADIUS=100;X-TITLE=Wysokie Tony:ge
 o:53.12982,23.15624
END:VEVENT
BEGIN:VTIMEZONE
TZID:Europe/Warsaw
X-LIC-LOCATION:Europe/Warsaw
BEGIN:DAYLIGHT
DTSTART:20190331T030000
TZOFFSETFROM:+0100
TZOFFSETTO:+0200
TZNAME:CEST
END:DAYLIGHT
END:VTIMEZONE
END:VCALENDAR