BEGIN:VCALENDAR
VERSION:2.0
PRODID:-//wp-events-plugin.com//7.2.3.1//EN
TZID:Europe/Warsaw
X-WR-TIMEZONE:Europe/Warsaw
BEGIN:VEVENT
UID:48890@night4u.pl
DTSTART;TZID=Europe/Warsaw:20200229T213000
DTEND;TZID=Europe/Warsaw:20200301T050000
DTSTAMP:20200229T171431Z
URL:https://night4u.pl/wydarzenia/xanax-kocurr-loui-2/
SUMMARY:XANAX // Kocurr &amp\; Loui
DESCRIPTION:// DARE TO BE CURIOUS //\n\n Dla wszystkich gości Xanaxu czeka
  niezapomniana sobotnia. Jesteśmy idealnym wyborem dla tych\, którzy pra
 gną celebrować życie z wysmakowaną muzyką House w tle.\n\nW naszym ws
 pólnym domu\, kładziemy nacisk na komfort i wygodę wszystkich naszych g
 ości poprzez niebanalny wystrój i muzykę na światowym poziomie\n\n// L
 INE UP //\nKOCURR\nLOUI\n\n// RESERVATIONS //\n\nRezerwacje Luca - dobierz
 e stolik i zadba o wyjątkowość nocy.\nreservation@xanaxclub.pl\n+48 782
  900 600 // whatsup\, imsg\n\n\n// SELECTION //\nW trosce o klimat miejsca
 \, oraz komfort Twój i pozostalych gości - zastrzegamy sobie prawo selek
 cji osob odwiedzających nasz klub
ATTACH;FMTTYPE=image/jpeg:https://night4u.pl/wp-content/uploads/2020/02/16
 7284_image_84866874_201933521204457_1678354287337406464_o.jpg
CATEGORIES:pomorskie
LOCATION:XANAX CLUB\, Tkacka 7/8\, Gdansk\, 80-836\, Poland
GEO:54.350117;18.648981
X-APPLE-STRUCTURED-LOCATION;VALUE=URI;X-ADDRESS=Tkacka 7/8\, Gdansk\, 80-83
 6\, Poland;X-APPLE-RADIUS=100;X-TITLE=XANAX CLUB:geo:54.350117,18.648981
END:VEVENT
BEGIN:VTIMEZONE
TZID:Europe/Warsaw
X-LIC-LOCATION:Europe/Warsaw
BEGIN:STANDARD
DTSTART:20191027T020000
TZOFFSETFROM:+0200
TZOFFSETTO:+0100
TZNAME:CET
END:STANDARD
END:VTIMEZONE
END:VCALENDAR