BEGIN:VCALENDAR
VERSION:2.0
PRODID:-//wp-events-plugin.com//7.2.3.1//EN
TZID:Europe/Warsaw
X-WR-TIMEZONE:Europe/Warsaw
BEGIN:VEVENT
UID:20418@night4u.pl
DTSTART;TZID=Europe/Warsaw:20190629T220000
DTEND;TZID=Europe/Warsaw:20190630T050000
DTSTAMP:20190629T105555Z
URL:https://night4u.pl/wydarzenia/xx-single-party-xx-sahara-shisha-club-xx
 -29-06-xx/
SUMMARY:Xx Single Party xX Sahara Shisha Club xX 29.06 xX
DESCRIPTION:??„Single Party”?? w tą wyjątkowa noc mamy dla Was koloro
 we bransoletki :\n\n?Kolor niebieski - wolny ?\n❤️Kolor czerwony - zaj
 ęty ?\n?Kolor pomarańczowy - szukający wrażeń ?\n\nZapraszamy do zaba
 wy ??\n\nZagra dla Was Dj Rayan ?\nStart : 22:00?\nul. Piotrkowska 143 ?\n
 \n———————————————————————\n?
 ?„Single Party" ??on this special night we have colorful bracelets for y
 ou:\n\n?Blue - free ?\n❤️Red - in relationship ?\n?Orange color - have
  fun ?\n\nWelcome for fun ??\nWill play for You Dj Rayan?\nStart: 22:00 ?\
 nul. Piotrkowska 143 ?
ATTACH;FMTTYPE=image/jpeg:https://night4u.pl/wp-content/uploads/2019/06/48
 985_image_65057110_1232771040224327_5390725161014001664_o.jpg
CATEGORIES:łódzkie
LOCATION:ShishaClub Sahara\, Piotrkowska 143\, Łódź\, 90-434\, Poland
GEO:51.76082;19.456976
X-APPLE-STRUCTURED-LOCATION;VALUE=URI;X-ADDRESS=Piotrkowska 143\, Łódź\,
  90-434\, Poland;X-APPLE-RADIUS=100;X-TITLE=ShishaClub Sahara:geo:51.76082
 ,19.456976
END:VEVENT
BEGIN:VTIMEZONE
TZID:Europe/Warsaw
X-LIC-LOCATION:Europe/Warsaw
BEGIN:DAYLIGHT
DTSTART:20190331T030000
TZOFFSETFROM:+0100
TZOFFSETTO:+0200
TZNAME:CEST
END:DAYLIGHT
END:VTIMEZONE
END:VCALENDAR