BEGIN:VCALENDAR
VERSION:2.0
PRODID:-//wp-events-plugin.com//7.2.3.1//EN
TZID:Europe/Warsaw
X-WR-TIMEZONE:Europe/Warsaw
BEGIN:VEVENT
UID:31246@night4u.pl
DTSTART;TZID=Europe/Warsaw:20191009T230000
DTEND;TZID=Europe/Warsaw:20191010T070000
DTSTAMP:20191009T200408Z
URL:https://night4u.pl/wydarzenia/yoeo-reggaetomania/
SUMMARY:YOEO / Reggaetomania
DESCRIPTION:::::::::::::: YOEO :::::::::::::\n🔥 REGGAETOMANIA 🔥\n\nTh
 is Wednesday YOEO is giving you a thematic party! REGGAETOMANIA - The famo
 us reggaeton & latin party!!! Come dance and have fun in one of the best p
 laces for ERASMUS PARTIES!!\n\n#YOEO - YOU ONLY ERASMUS ONCE\nWEDNESDAY | 
 09.10.19 | START: 23.00\n✅ FREE ENTRANCE\n\n★★★★★★★★★
 ★★★★★★★★★★★★\nYOEO : THE BEST ERASMUS PARTIES\n★
 ★★★★★★★★★★★★★★★★★★★★\n\nFREE ENTRA
 NCE ALL NIGHT LONG - EVERY WEDNESDAYS\n\nMUSIC BY\n★ DJ Snoopi - Reggaet
 on|RnB|Dance|House|Hits\n\nYou can only expect the best atmosphere\, \nthe
  best people\, the best music derived from all cultures!!\n\nA lot of phot
 os and movies for you never forget your ERASMUS by Fabio Ferreira\n\nSee y
 ou there! \n\n#YOEO\n#YouOnlyErasmusOnce\n#YOEO_WEDNESDAYS\n#YOEO_PARTIES
ATTACH;FMTTYPE=image/jpeg:https://night4u.pl/wp-content/uploads/2019/10/72
 637_image_71514845_1647753095359547_8271563634308546560_o.jpg
CATEGORIES:dolnośląskie
LOCATION:Jamaica Wrocław\, Ruska 51 B Pasaż Niepolda\, Wroclaw\, 50-079\,
  Poland
GEO:51.109952;17.025545
X-APPLE-STRUCTURED-LOCATION;VALUE=URI;X-ADDRESS=Ruska 51 B Pasaż Niepolda\
 , Wroclaw\, 50-079\, Poland;X-APPLE-RADIUS=100;X-TITLE=Jamaica Wrocław:ge
 o:51.109952,17.025545
END:VEVENT
BEGIN:VTIMEZONE
TZID:Europe/Warsaw
X-LIC-LOCATION:Europe/Warsaw
BEGIN:DAYLIGHT
DTSTART:20190331T030000
TZOFFSETFROM:+0100
TZOFFSETTO:+0200
TZNAME:CEST
END:DAYLIGHT
END:VTIMEZONE
END:VCALENDAR