BEGIN:VCALENDAR
VERSION:2.0
PRODID:-//wp-events-plugin.com//7.2.3.1//EN
TZID:Europe/Warsaw
X-WR-TIMEZONE:Europe/Warsaw
BEGIN:VEVENT
UID:44622@night4u.pl
DTSTART;TZID=Europe/Warsaw:20200215T213000
DTEND;TZID=Europe/Warsaw:20200216T050000
DTSTAMP:20200331T150026Z
URL:https://night4u.pl/wydarzenia/you-give-love-a-bad-name/
SUMMARY:You Give Love A Bad Name
DESCRIPTION:Komedia romantyczna zaliczona? Za droga kolacja odbyta? Pół p
 ensji poszło na gadżety z serduszkiem? To teraz pora to odreagować!\n\n
 W sobotę 15 lutego DZiK przeniesie się w czasie do szalonych lat 80! Cza
 sów\, w których wszyscy mieli bezbłędną stylówkę i nikt nie dziwił
  się połączeniu wąsów z brokatem. Czasów\, gdy dobra impreza oznacza
 ła morze ludzi i morze alkoholu\, a może nie instagrama. Czasów\, w kt
 órych każdy gatunek muzyczny był tak samo dobry i do dziś słuchasz ty
 ch numerów – w tajemnicy lub nie.\nWięc wbijaj się w swój najlepszy 
 spandex\, szykuj trwałą i upewnij się\, że w szafie rodziców ciągle 
 są te panterki! To będzie najlepszy dzień karnawału 1986!\n\nImprezę 
 poprowadzi \n⚡️ DJ Kill Collins -\nWbrew nazwie\, zamiast zabijać swo
 ich idoli zdecydowanie chętniej chętniej puszcza ich piosenki. Od debiut
 u w 2006 roku zagrał setki imprez w najważniejszych alternatywnych kluba
 ch Warszawy od CDQ\, Saturatora\, przez Kamieniołomy\, Bar Studio Kultura
 lną i Niebo po Spatif i Pogłos. Współtworzył scenę djską legendarne
 j Jadłodajni Filozoficznej grając m.in. z V/A Team\, Double Trouble\, AM
  Radio\, czy Barrym Hyde’m z Futureheads. Występował na festiwalach Sp
 ring Break i Open'er\, londyńskim 1-2-3-4 Shoreditch Festival czy też na
  gali plebiscytu "Sanki". \n…………………….\nGwiazdą wieczoru b
 ędzie jedyny w swoim rodzaju amerykański zespół Toxxxik Flash Działaj
 ą z przerwami od przełomu lat 70 i 80 i wbrew powszechnemu przekonaniu\,
  to oni są autorami wielu hitów\, które znacie lepiej z wykonań Bon Jo
 vi\, Europe\, Motley Crue czy Van Halen. Kilka lat temu powrócili na scen
 ę w nowym składzie i z nową energią\, a występ w Warszawie odbędzie 
 się w ramach europejskiej trasy koncertowej i przeniesie Was prosto do z
 łotej ery glam/hair metalu na Sunset Strip!\nZespół wystąpi w składzi
 e: \n⚡️ Bobby Van Ravish - vox \n⚡️ Stevie Temper - lead guitar/ba
 cking vox \n⚡️ Matt Blackwood - bass/backing vox \n⚡️ Lee Brent - 
 guitar/backing vox \n⚡️ Magnum Milano - drums/backing vox\n\nMamy! Uwa
 żajcie na córki! \nCórki! Uważajcie na mamy! \n\nThe Mighty Flash is c
 ummmming!!! \n\nNa koniec wypada przytoczyć zaproszenie\, jakie przekaza
 ł nam gitarzysta zespołu\, Lee Brent: „We ain’t talkin’ bout love!
  We’ll rock you like a hurricane\, cause you give love a bad name\, babe
 ! See ya in February\, POOLAAAND!”\n\nTOXXXIK FLASH -&gt\; http://toxxxi
 kflash.com/ \nFB --&gt\; Toxxxik Flash\n\nStart: 21:30\nWjazd: 20 złotych
ATTACH;FMTTYPE=image/jpeg:https://night4u.pl/wp-content/uploads/2020/01/14
 4148_image_83468672_2668829163185816_4335584251962458112_o.jpg
CATEGORIES:mazowieckie
LOCATION:DZiK\, Belwederska 44A\, Mokotów\, 00-594\, Poland
GEO:52.209804;21.028643
X-APPLE-STRUCTURED-LOCATION;VALUE=URI;X-ADDRESS=Belwederska 44A\, Mokotów\
 , 00-594\, Poland;X-APPLE-RADIUS=100;X-TITLE=DZiK:geo:52.209804,21.028643
END:VEVENT
BEGIN:VTIMEZONE
TZID:Europe/Warsaw
X-LIC-LOCATION:Europe/Warsaw
BEGIN:STANDARD
DTSTART:20191027T020000
TZOFFSETFROM:+0200
TZOFFSETTO:+0100
TZNAME:CET
END:STANDARD
END:VTIMEZONE
END:VCALENDAR