BEGIN:VCALENDAR
VERSION:2.0
PRODID:-//wp-events-plugin.com//7.2.3.1//EN
TZID:Europe/Warsaw
X-WR-TIMEZONE:Europe/Warsaw
BEGIN:VEVENT
UID:24676@night4u.pl
DTSTART;TZID=Europe/Warsaw:20190823T220000
DTEND;TZID=Europe/Warsaw:20190824T050000
DTSTAMP:20190815T220746Z
URL:https://night4u.pl/wydarzenia/young-hearts-run-free-tom-forester-funkt
 ion/
SUMMARY:Young Hearts Run Free | Tom Forester & Funktion
DESCRIPTION:Sala Główna: Tom Forester\nSala R'n'B: Funktion \n\nLista Fac
 ebook do 24:00 wchodzi za FREE !\n*listę zamykamy w dniu wydarzenia o god
 zinie 21:00\n\nBilety dostępne w kasie klubu w dniu imprezy od godziny 22
 :00 w cenie: kobiety 15zł\, mężczyźni 25zł\,do wyprzedania w kasie kl
 ubu przy ul. Paderewskiego 10 (główne wejście).\nWymień bilet wstępu 
 na Lech Premium Ice Cold!\nDo każdego zakupionego biletu\, PACHA Poznań 
 zapewnia bezpłatną szatnie.\nW klubie obowiązuje selekcja oraz bezwzgl
 ędny zakaz żucia gumy.\nPrzed zakupem prosimy o zapoznanie się z regula
 minem klubu
ATTACH;FMTTYPE=image/jpeg:https://night4u.pl/wp-content/uploads/2019/08/58
 022_image_67835759_2479096128821798_1603440471328161792_o.jpg
CATEGORIES:wielkopolskie
LOCATION:Pacha Poznań\, ul. Paderewskiego 10\, Poznan\, 61-740\, Poland
GEO:52.407928;16.931163
X-APPLE-STRUCTURED-LOCATION;VALUE=URI;X-ADDRESS=ul. Paderewskiego 10\, Pozn
 an\, 61-740\, Poland;X-APPLE-RADIUS=100;X-TITLE=Pacha Poznań:geo:52.40792
 8,16.931163
END:VEVENT
BEGIN:VTIMEZONE
TZID:Europe/Warsaw
X-LIC-LOCATION:Europe/Warsaw
BEGIN:DAYLIGHT
DTSTART:20190331T030000
TZOFFSETFROM:+0100
TZOFFSETTO:+0200
TZNAME:CEST
END:DAYLIGHT
END:VTIMEZONE
END:VCALENDAR