BEGIN:VCALENDAR
VERSION:2.0
PRODID:-//wp-events-plugin.com//7.2.3.1//EN
TZID:Europe/Warsaw
X-WR-TIMEZONE:Europe/Warsaw
BEGIN:VEVENT
UID:2073@night4u.pl
DTSTART;TZID=Europe/Warsaw:20190112T190000
DTEND;TZID=Europe/Warsaw:20190112T230000
DTSTAMP:20190221T220255Z
URL:https://night4u.pl/wydarzenia/young-multi-%e2%9c%a9-trapstar-tour-%e2%
 9c%a9-katowice/
SUMMARY:Young Multi ✩ Trapstar Tour ✩ Katowice
DESCRIPTION:Miał być sezonowiec\, miał być fake mc\, ale na razie jest 
 kolejna jedynka na OLIS i feat z legendą polskiej sceny rap. Drugą płyt
 ą Multi udowodnił\, że nie musi już nic nikomu udowadniać.\n\nZaprasz
 amy na Trapstar Tour - ogólnopolską trasę promującą drugi studyjny kr
 ążek Young Multiego.\n\nBilety w cenach:\nI̶ ̶P̶U̶L̶A̶ ̶w̶y̶p̶
 r̶z̶e̶d̶a̶n̶a̶\nII PULA 40 zł\nIII PULA 50 zł\nBILET ✩ VIP 129 
 zł\n\nPosiadacze biletów ✩ VIP otrzymują:\n✩ udział w spotkaniu z 
 Multim po koncercie\n✩ zdjęcie z Multim\n✩ limitowany koncertowy plak
 at z autografem\n\nBilety dostępne online na platformach sprzedaży www.t
 icketos.pl i www.ebilet.pl oraz stacjonarnie w sklepach sieci Mediamarkt w
  całym kraju.\n\nWstęp na wydarzenie bez ograniczeń wiekowych. Osoby ni
 eletnie poniżej 14 roku życia\, mogą przebywać na terenie imprezy wył
 ącznie pod opieką osoby dorosłej. Nieletni powyżej 14 lat\, muszą pos
 iadać przy sobie podpisane przez opiekuna oświadczenie.\nWzór zgody:\n\
 n\nOrganizatorami trasy są:\nMyMusic Booking oraz GetHero\n\nWszelkie pyt
 ania nt koncertów można zadawać mailowo na adres:\nbooking@my-music.pl
ATTACH;FMTTYPE=image/jpeg:https://night4u.pl/wp-content/uploads/2018/12/81
 70_image_46987307_363158124436777_255313940068696064_n.jpg
CATEGORIES:śląskie
LOCATION:P23 Katowice\, ul. Porcelanowa 23\, Katowice\, 40-246\, Poland
GEO:50.25484;19.061829
X-APPLE-STRUCTURED-LOCATION;VALUE=URI;X-ADDRESS=ul. Porcelanowa 23\, Katowi
 ce\, 40-246\, Poland;X-APPLE-RADIUS=100;X-TITLE=P23 Katowice:geo:50.25484,
 19.061829
END:VEVENT
BEGIN:VTIMEZONE
TZID:Europe/Warsaw
X-LIC-LOCATION:Europe/Warsaw
BEGIN:STANDARD
DTSTART:20181028T020000
TZOFFSETFROM:+0200
TZOFFSETTO:+0100
TZNAME:CET
END:STANDARD
END:VTIMEZONE
END:VCALENDAR