BEGIN:VCALENDAR
VERSION:2.0
PRODID:-//wp-events-plugin.com//7.2.3.1//EN
TZID:Europe/Warsaw
X-WR-TIMEZONE:Europe/Warsaw
BEGIN:VEVENT
UID:16351@night4u.pl
DTSTART;TZID=Europe/Warsaw:20190528T220000
DTEND;TZID=Europe/Warsaw:20190529T050000
DTSTAMP:20190516T203659Z
URL:https://night4u.pl/wydarzenia/youwro-after-party/
SUMMARY:YouWRO After Party
DESCRIPTION:Nie martwcie się\, zadbaliśmy o waszą zabawę nie tylko na P
 olach Marsowych! ✈️\n\nPo wtorkowych koncertach na YouWro Students' Fe
 stival specjalne linie tramwajowe zawiozą was prosto na Rynek\, gdzie bę
 dziecie mogli odbyć tripa po najlepszych wrocławskich klubach Cherry CLU
 B Wrocław\, Domówka i One Love Wrocław! ??\n\nJeżeli posiadasz ?? ??̨
 ?? opaskę YouWRO - to nic tylko się cieszyć! Dla Ciebie wstęp do wszys
 tkich trzech klubów jest ???????. Reszta świata musi zapłacić 5 zł\, 
 ale to niezbyt wysoka cena za pakiet wejść na trzy różne imprezy? \n\n
 ? Dzięki wsparciu MPK Wrocław ????????? ????? ?????????? ?? będzie kurs
 ować na trasie:\nRynek ➡️ pl. Dominikański ➡️ Traugutta ➡️pl
 . Grunwaldzki ➡️ most Szczytnicki ➡️ Stadion Olimpijski i odwrotni
 e! \nW godzinach od 20.00 do 23.00 tramwaj będzie jeździł co 10 minut\n
 W godzinach od 23.00 do 1.00 co 5 minut \n\nMamy nadzieję\, że dzięki t
 emu bezpiecznie i szybko dojedziecie na nasze After Party!\n\nTo co\, widz
 imy się w klubach? ?
ATTACH;FMTTYPE=image/jpeg:https://night4u.pl/wp-content/uploads/2019/05/40
 042_image_60193584_298122057769142_3300289639461421056_o.jpg
CATEGORIES:dolnośląskie
LOCATION:Wrocław\, Wroclaw\, Poland
GEO:51.1108;17.0375
X-APPLE-STRUCTURED-LOCATION;VALUE=URI;X-ADDRESS=Wroclaw\, Poland;X-APPLE-RA
 DIUS=100;X-TITLE=Wrocław:geo:51.1108,17.0375
END:VEVENT
BEGIN:VTIMEZONE
TZID:Europe/Warsaw
X-LIC-LOCATION:Europe/Warsaw
BEGIN:DAYLIGHT
DTSTART:20190331T030000
TZOFFSETFROM:+0100
TZOFFSETTO:+0200
TZNAME:CEST
END:DAYLIGHT
END:VTIMEZONE
END:VCALENDAR