BEGIN:VCALENDAR
VERSION:2.0
PRODID:-//wp-events-plugin.com//7.2.3.1//EN
TZID:Europe/Warsaw
X-WR-TIMEZONE:Europe/Warsaw
BEGIN:VEVENT
UID:42039@night4u.pl
DTSTART;TZID=Europe/Warsaw:20200111T220000
DTEND;TZID=Europe/Warsaw:20200112T040000
DTSTAMP:20200111T180001Z
URL:https://night4u.pl/wydarzenia/yunik/
SUMMARY:Yu'Nik
DESCRIPTION:Zazwyczaj u nas dzieje się coś unikatowego... coś muzycznego
  i zawsze IMPREZOWEGO !!!\nJutro zapraszamy Was na Yu'Nik\nZagra  Dj Nick 
 oraz DJ YouRi\nMuzycznie: MashUp\, House\, RnB\, Dancehall\n\nSTART: 22.00
 \nWejście 18+\nLista FB --&gt\; do 23.00 FREE !!!\nKarty klubowe 1+1 !!! 
 All Night :-) !!!\nPo 23.00 :\nPanie 10 pln \nPanowie 20 pln
ATTACH;FMTTYPE=image/jpeg:https://night4u.pl/wp-content/uploads/2020/01/13
 2605_image_80670838_2480644125585005_541453148183592960_o.jpg
CATEGORIES:mazowieckie
LOCATION:N58 Club\, ul. Nowy Świat 58\, Warsaw\, 00-363\, Poland
GEO:52.235367;21.018564
X-APPLE-STRUCTURED-LOCATION;VALUE=URI;X-ADDRESS=ul. Nowy Świat 58\, Warsaw
 \, 00-363\, Poland;X-APPLE-RADIUS=100;X-TITLE=N58 Club:geo:52.235367,21.01
 8564
END:VEVENT
BEGIN:VTIMEZONE
TZID:Europe/Warsaw
X-LIC-LOCATION:Europe/Warsaw
BEGIN:STANDARD
DTSTART:20191027T020000
TZOFFSETFROM:+0200
TZOFFSETTO:+0100
TZNAME:CET
END:STANDARD
END:VTIMEZONE
END:VCALENDAR