BEGIN:VCALENDAR
VERSION:2.0
PRODID:-//wp-events-plugin.com//7.2.3.1//EN
TZID:Europe/Warsaw
X-WR-TIMEZONE:Europe/Warsaw
BEGIN:VEVENT
UID:33057@night4u.pl
DTSTART;TZID=Europe/Warsaw:20191023T210000
DTEND;TZID=Europe/Warsaw:20191024T040000
DTSTAMP:20191024T005634Z
URL:https://night4u.pl/wydarzenia/za-hajs-bajki-baluj1000-zl-do-rozdania-l
 ista-fb-free/
SUMMARY:Za Hajs Bajki Baluj!1000 zł do rozdania! Lista FB Free*
DESCRIPTION:Siema studenci!\n\nJako że  socjale są teraz bardzo  w modzie
  to i my zdecydowaliśmy się zrobić dla Was "dobrą zmianę" i przyznać
   stypendia managera klubu Bajka!\n\nJuż w tą środę (23.10.2019) najba
 rdziej imprezowi studenci dostaną  od nas stypendia do wykorzystania na b
 arze! Rozdamy bony o wartości : 10\, 20\, 50 i 100 zł (łącznie 1000 z
 ł). \nBon może uzyskać osoba która będzie miała status "Wezmę udzia
 ł" Jeśli to Ciebie wybierzemy i będziesz miał/ła status "Wezmę udzia
 ł " dostaniesz od nas Stypendium managera!\nPrzyjdź i baw się dobrze a 
 my zadbamy o resztę!\n\nJakby tego było mało  znowu wprowadzamy promocj
 e na barze i na wejściu na imprezę!\nWejściówki na środową imprezę 
 będą sprzedawane w następujących cenach:\n-od 21:00 do 22:00 – wstę
 p darmowy z listy FB.\n-od 22:00 do 23:00 – 5 zł\,\n-od 23:00 – 10 z
 ł.\nCeny dotyczą studentów.\nPromocje na barze:\n-Tequiladze 4 shoty 40
  ml - 10 zł\n-Wódka stock 0\,7 + napój - 80 zł\n-Piwo 6 zł do 23:30 p
 óźniej 7 zł\n\n✅ Bezpłatne rezerwacje loży: 574 661 955\n\nDo zobac
 zenia!
ATTACH;FMTTYPE=image/jpeg:https://night4u.pl/wp-content/uploads/2019/10/81
 349_image_73001904_1178990372293338_9057187386961690624_o.jpg
CATEGORIES:podkarpackie
LOCATION:BAJKA DISCO CLUB Rzeszów\, Ul. Piłsudskiego 34\, Rzeszów\, 35-0
 01\, Poland
GEO:50.041268;22.003453
X-APPLE-STRUCTURED-LOCATION;VALUE=URI;X-ADDRESS=Ul. Piłsudskiego 34\, Rzes
 zów\, 35-001\, Poland;X-APPLE-RADIUS=100;X-TITLE=BAJKA DISCO CLUB Rzeszó
 w:geo:50.041268,22.003453
END:VEVENT
BEGIN:VTIMEZONE
TZID:Europe/Warsaw
X-LIC-LOCATION:Europe/Warsaw
BEGIN:DAYLIGHT
DTSTART:20190331T030000
TZOFFSETFROM:+0100
TZOFFSETTO:+0200
TZNAME:CEST
END:DAYLIGHT
END:VTIMEZONE
END:VCALENDAR