BEGIN:VCALENDAR
VERSION:2.0
PRODID:-//wp-events-plugin.com//7.2.3.1//EN
TZID:Europe/Warsaw
X-WR-TIMEZONE:Europe/Warsaw
BEGIN:VEVENT
UID:26143@night4u.pl
DTSTART;TZID=Europe/Warsaw:20190927T210000
DTEND;TZID=Europe/Warsaw:20190928T040000
DTSTAMP:20190903T190402Z
URL:https://night4u.pl/wydarzenia/za-toba-pojde-jak-na-bal-odpalamy-klub-p
 od-palma-lista-fb/
SUMMARY:Za Tobą Pójdę jak na Bal!//Odpalamy Klub Pod Palmą//Lista FB!
DESCRIPTION:27 Września (Piątek)\n#Rzeszów Klub Pod Palmą \nul. Cicha 4
 a\n\n✰#EnglishVersionBelow\n✰Start 21:00\n✔Bilety:\n➡21:00-22:00 L
 ista FB Wstęp #FREE (Za Okazaniem Dokumentu Tożsamości). Więc dołącz
  do #wydarzenia i wejdź za darmo❗\n➡Po 22:00 & Pozostali Wstęp 10 PL
 N\n\n⚡ ⚡ Listę z Facebooka zamykamy 27.09.2019 punktualnie o godzinie
  19:00. Osoby które dodadzą się do wydarzenia po tej godzinie nie zosta
 ną wpisane już na listę❗ ⚡ ⚡\n❏ ❐ ❑ ❒ ❏ ❐ ❑ ❒ ❏
  ❐ ❑ ❒ ❏ ❐ ❑ ❒ ❏ ❐ ❑ ❐ ❑ ❒ ❏ ❐ ❑ ❏ ❐ 
 ❑\n\nWracamy do Was po przerwie wakacyjnej z najlepszą\, #studencką mi
 ejscówką w mieście! Coś się wyniosło\, coś się przeniosło\, a co
 ś jeszcze powstaje\, ale już teraz obiecujemy\, że będzie GRUBOOO!\n--
 --------------------------------------------------------------------------
 ------------------\n\nZa Tobą pójdę jak na bal\, nie obejrzę się.\nNi
 kt mnie nie zatrzyma\, nie zatrzyma mnie.\nNiczego mi nie będzie żal\, p
 ójdę tak jak w dym.\nTylko powiedz\, że to właśnie Ty.\n\nSpodziewajc
 ie się #Mandaryny\, pani #Rodowicz czy króla #KrzysztofaKrawczyka na jed
 nej imprezie? Tak macie rację! Tylko u nas! Tylko tego wieczoru! Królowa
 ć będą #PolskiePrzeboje!♥  A DJ Grocyou będzie rzucał hitami jak z 
 rękawa\, a Wy będziecie mieli wolne pole do nieograniczonej zabawy! \;)\
 n▬▬▬▬▬▬▬▬▬▬▬▬▬▬▬▬▬▬▬▬▬▬▬▬
 ▬▬▬▬▬▬▬▬▬▬\n\n✔Koło godziny 1:00 chusteczka haftowa
 na\nhttp://www.youtube.com/watch?v=BvUiNRKcmBQ\n❏ ❐ ❑ ❒ ❏ ❐ 
 ❑ ❒ ❏ ❐ ❑ ❒ ❏ ❐ ❑ ❒ ❏ ❐ ❑ ❐ ❑ ❒ ❏ ❐ 
 ❑ ❏ ❐ ❑\n\n>>>>W czasie imprezy: \n✘PIWO BUTELKA: 8 PLN\n✘PIWO
  LANE: 7 PLN\n✘BANIA 25ML: 3 PLN\n✘WÓDKA 0.5L: 60 PLN\n✘NAPOJE/SOKI
  0.2L: 5 PLN\n✘ENERGETYK: 7 PLN\n❏ ❐ ❑ ❒ ❏ ❐ ❑ ❒ ❏ ❐
  ❑ ❒ ❏ ❐ ❑ ❒ ❏ ❐ ❑ ❐ ❑ ❒ ❏ ❐ ❑ ❏ ❐ ❑\n
 \n☝Tak imprezowaliśmy na ostatniej Tematycznej Dyskotece:\nhttp://www.f
 acebook.com/podpalma/photos_stream?tab=photos_albums\n\n❊Loża 30 PLN\n
 ☎Rezerwacja lóż pod numerem (17) 872 39 52\, od poniedziałku do piąt
 ku między 9.00 a 17.00. Rezerwacja loży ważna jest przez 1 h od momentu
  rozpoczęcia się danej imprezy!\n❏ ❐ ❑ ❒ ❏ ❐ ❑ ❒ ❏ ❐
  ❑ ❒ ❏ ❐ ❑ ❒ ❏ ❐ ❑ ❐ ❑ ❒ ❏ ❐ ❑❏ ❐ ❑\n\
 n★★★WE'RE OPEN FROM 9 PM★ ★★\n\n#ENTRANCE⤵⤵⤵\n✔People 
 from Facebook list ('Attending') - FREE ENTRY till 10 pm. \n✔Facebook li
 st will be closed in a party day at 7 pm. \n✔Others - Tickets 10 PLN!\n
 ▬▬▬▬▬▬▬▬▬▬▬▬▬▬▬▬▬▬▬▬▬▬▬▬
 ▬▬▬▬▬▬▬▬▬▬
ATTACH;FMTTYPE=image/jpeg:https://night4u.pl/wp-content/uploads/2019/09/61
 153_image_69108190_2481594155220160_5623757905967710208_o.jpg
CATEGORIES:podkarpackie
LOCATION:Pod Palmą\, Cicha4a\, Rzeszów\, 35-326\, Poland
GEO:50.01652;22.00478
X-APPLE-STRUCTURED-LOCATION;VALUE=URI;X-ADDRESS=Cicha4a\, Rzeszów\, 35-326
 \, Poland;X-APPLE-RADIUS=100;X-TITLE=Pod Palmą:geo:50.01652,22.00478
END:VEVENT
BEGIN:VTIMEZONE
TZID:Europe/Warsaw
X-LIC-LOCATION:Europe/Warsaw
BEGIN:DAYLIGHT
DTSTART:20190331T030000
TZOFFSETFROM:+0100
TZOFFSETTO:+0200
TZNAME:CEST
END:DAYLIGHT
END:VTIMEZONE
END:VCALENDAR