BEGIN:VCALENDAR
VERSION:2.0
PRODID:-//wp-events-plugin.com//7.2.3.1//EN
TZID:Europe/Warsaw
X-WR-TIMEZONE:Europe/Warsaw
BEGIN:VEVENT
UID:41866@night4u.pl
DTSTART;TZID=Europe/Warsaw:20200131T210000
DTEND;TZID=Europe/Warsaw:20200201T040000
DTSTAMP:20200131T191102Z
URL:https://night4u.pl/wydarzenia/zabiore-cie-na-balet-bedziemy-razem-szal
 ec-lista-fb/
SUMMARY:Zabiorę Cię Na Balet\, Będziemy Razem Szaleć//Lista FB!
DESCRIPTION:31 Styczeń (Piątek)\n#Rzeszów Klub Pod Palmą \nul. Cicha 4a
 \n\n✰#EnglishVersionBelow\n✰Start 21:00\n✔Bilety:\n➡21:00-22:00 Li
 sta FB Wstęp #FREE (Za Okazaniem Dokumentu Tożsamości). Więc dołącz 
 do #wydarzenia i wejdź za darmo❗\n➡Po 22:00 &amp\; Pozostali Wstęp 1
 0 PLN\n\n⚡ ⚡ Listę z Facebooka zamykamy 31.01.2020 punktualnie o godz
 inie 19:00. Osoby które dodadzą się do wydarzenia po tej godzinie nie z
 ostaną wpisane już na listę❗ ⚡ ⚡\n❏ ❐ ❑ ❒ ❏ ❐ ❑ ❒
  ❏ ❐ ❑ ❒ ❏ ❐ ❑ ❒ ❏ ❐ ❑ ❐ ❑ ❒ ❏ ❐ ❑ ❏ 
 ❐ ❑\n\nWszyscy kochamy POLSKIE PRZEBOJE! ♥\nDlatego zapraszamy na #p
 iątkowy przegląd nieśmiertelnych klasyków i największych Polskich hit
 ów♥ Imprezę rozkręca Dj Grocyou który wprowadzi Was w taneczne rytmy
  z najwyższej półki!:D\n \nCzas mija nieubłaganie\, ale świetna muzyk
 a pozostaje wiecznie młoda :)\n▬▬▬▬▬▬▬▬▬▬▬▬▬▬
 ▬▬▬▬▬▬▬▬▬▬▬▬▬▬▬▬▬▬▬▬\n\n✔Koło g
 odziny 1:00 chusteczka haftowana\nhttp://www.youtube.com/watch?v=BvUiNRKcm
 BQ\n❏ ❐ ❑ ❒ ❏ ❐ ❑ ❒ ❏ ❐ ❑ ❒ ❏ ❐ ❑ ❒ ❏ 
 ❐ ❑ ❐ ❑ ❒ ❏ ❐ ❑ ❏ ❐ ❑\n\n&gt\;&gt\;&gt\;&gt\;W czasi
 e imprezy: \n✘PIWO BUTELKA: 9 PLN\n✘PIWO LANE: 8 PLN\n✘BANIA 25ML: 3
 .5 PLN\n✘WÓDKA 0.5L: 70 PLN\n✘NAPOJE/SOKI 0.2L: 5 PLN\n✘ENERGETYK: 
 8 PLN\n❏ ❐ ❑ ❒ ❏ ❐ ❑ ❒ ❏ ❐ ❑ ❒ ❏ ❐ ❑ ❒ ❏
  ❐ ❑ ❐ ❑ ❒ ❏ ❐ ❑ ❏ ❐ ❑\n\n☝Tak imprezowaliśmy na 
 ostatniej Tematycznej Dyskotece:\nhttp://www.facebook.com/podpalma/photos_
 stream?tab=photos_albums\n\n❊Loża 30 PLN\n☎Rezerwacja lóż pod numer
 em (17) 872 39 52\, od poniedziałku do piątku między 9.00 a 17.00. Reze
 rwacja loży ważna jest przez 1 h od momentu rozpoczęcia się danej impr
 ezy!\n❏ ❐ ❑ ❒ ❏ ❐ ❑ ❒ ❏ ❐ ❑ ❒ ❏ ❐ ❑ ❒ ❏ 
 ❐ ❑ ❐ ❑ ❒ ❏ ❐ ❑❏ ❐ ❑\n\n★★★WE'RE OPEN FROM 9 P
 M★ ★★\n\n#ENTRANCE⤵⤵⤵\n✔People from Facebook list ('Attendin
 g') - FREE ENTRY till 10 pm. \n✔Facebook list will be closed in a party 
 day at 7 pm. \n✔Others - Tickets 10 PLN!\n▬▬▬▬▬▬▬▬▬▬
 ▬▬▬▬▬▬▬▬▬▬▬▬▬▬▬▬▬▬▬▬▬▬▬▬
ATTACH;FMTTYPE=image/jpeg:https://night4u.pl/wp-content/uploads/2020/01/13
 1913_image_82120923_2761198533926386_6589142670071824384_o.jpg
CATEGORIES:podkarpackie
LOCATION:Pod Palmą\, Cicha4a\, Rzeszów\, 35-326\, Poland
GEO:50.01652;22.00478
X-APPLE-STRUCTURED-LOCATION;VALUE=URI;X-ADDRESS=Cicha4a\, Rzeszów\, 35-326
 \, Poland;X-APPLE-RADIUS=100;X-TITLE=Pod Palmą:geo:50.01652,22.00478
END:VEVENT
BEGIN:VTIMEZONE
TZID:Europe/Warsaw
X-LIC-LOCATION:Europe/Warsaw
BEGIN:STANDARD
DTSTART:20191027T020000
TZOFFSETFROM:+0200
TZOFFSETTO:+0100
TZNAME:CET
END:STANDARD
END:VTIMEZONE
END:VCALENDAR