BEGIN:VCALENDAR
VERSION:2.0
PRODID:-//wp-events-plugin.com//7.2.3.1//EN
TZID:Europe/Warsaw
X-WR-TIMEZONE:Europe/Warsaw
BEGIN:VEVENT
UID:34347@night4u.pl
DTSTART;TZID=Europe/Warsaw:20191102T210000
DTEND;TZID=Europe/Warsaw:20191103T040000
DTSTAMP:20191102T090936Z
URL:https://night4u.pl/wydarzenia/zaduszki-liva-act-bari/
SUMMARY:Zaduszki - Liva Act Bari
DESCRIPTION:Po świątecznym piątko wracamy do gry! Ta noc upłynie pod zn
 akiem najlepszych klubowych brzmień \, a to wszystko za sprawą naszego r
 ezydenta Mathias Hoss \nNa scenie muzycznej gość specjalny Bari (Sax Liv
 e) czyli mistrz energetyzującego Live Actu na saxofonie! \nDo zobaczenia 
 na parkiecie ! \n\n______________________________________________________\
 nStart 21:00\n+21 kobiety/ 23 mężczyźni \nobowiązuje selekcja\ndress c
 ode: smart casual\nBilety:\n20 zł\ndo 22:00 kobiety FREE\nVIP 50 zł\nRez
 erwacje:\nhttps://emenago.com/inner/vandiesel
ATTACH;FMTTYPE=image/jpeg:https://night4u.pl/wp-content/uploads/2019/10/88
 399_image_73163733_3619770524703547_1518081475243671552_o.jpg
CATEGORIES:wielkopolskie
LOCATION:Van Diesel Club\, Stary Rynek 88\, Poznan\, 61-722\, Poland
GEO:52.408864;16.933094
X-APPLE-STRUCTURED-LOCATION;VALUE=URI;X-ADDRESS=Stary Rynek 88\, Poznan\, 6
 1-722\, Poland;X-APPLE-RADIUS=100;X-TITLE=Van Diesel Club:geo:52.408864,16
 .933094
END:VEVENT
BEGIN:VTIMEZONE
TZID:Europe/Warsaw
X-LIC-LOCATION:Europe/Warsaw
BEGIN:STANDARD
DTSTART:20191027T020000
TZOFFSETFROM:+0200
TZOFFSETTO:+0100
TZNAME:CET
END:STANDARD
END:VTIMEZONE
END:VCALENDAR