BEGIN:VCALENDAR
VERSION:2.0
PRODID:-//wp-events-plugin.com//7.2.3.1//EN
TZID:Europe/Warsaw
X-WR-TIMEZONE:Europe/Warsaw
BEGIN:VEVENT
UID:33852@night4u.pl
DTSTART;TZID=Europe/Warsaw:20191102T210000
DTEND;TZID=Europe/Warsaw:20191103T040000
DTSTAMP:20191102T094411Z
URL:https://night4u.pl/wydarzenia/zaduszki/
SUMMARY:Zaduszki
DESCRIPTION:Zaduszki w Klubie Kosmos.\nSpokojne rytmy Chillout\, Soul and R
 'N'B zagra DJ Skovroni.
ATTACH;FMTTYPE=image/jpeg:https://night4u.pl/wp-content/uploads/2019/10/85
 751_image_69098970_2311596312241875_306559024533340160_o.jpg
CATEGORIES:pomorskie
LOCATION:Klub Kosmos Gdańsk\, Aleja Grunwaldzka 82\, Gdansk\, 80-244\, Pol
 and
GEO:54.377018;18.607492
X-APPLE-STRUCTURED-LOCATION;VALUE=URI;X-ADDRESS=Aleja Grunwaldzka 82\, Gdan
 sk\, 80-244\, Poland;X-APPLE-RADIUS=100;X-TITLE=Klub Kosmos Gdańsk:geo:54
 .377018,18.607492
END:VEVENT
BEGIN:VTIMEZONE
TZID:Europe/Warsaw
X-LIC-LOCATION:Europe/Warsaw
BEGIN:STANDARD
DTSTART:20191027T020000
TZOFFSETFROM:+0200
TZOFFSETTO:+0100
TZNAME:CET
END:STANDARD
END:VTIMEZONE
END:VCALENDAR