BEGIN:VCALENDAR
VERSION:2.0
PRODID:-//wp-events-plugin.com//7.2.3.1//EN
TZID:Europe/Warsaw
X-WR-TIMEZONE:Europe/Warsaw
BEGIN:VEVENT
UID:26815@night4u.pl
DTSTART;TZID=Europe/Warsaw:20190907T210000
DTEND;TZID=Europe/Warsaw:20190907T210000
DTSTAMP:20190906T185200Z
URL:https://night4u.pl/wydarzenia/zakonczenie-lata-w-elefunk/
SUMMARY:Zakończenie LATA w Elefunk
DESCRIPTION:☀️ Zakończenie LATA w Elefunk The Club ☀️\nczytaj\, na
 jmocniejszy melanż kończący wakacje!\n\nWyobraź sobie.. jesteś pierws
 zy tydzień po szkole i już masz dość! Jedyne o czym marzysz\, to zimny
  Jack Daniel’s\, twoja ekipa i najlepsza muza ???? \n\n?7 WRZEŚNIA 2019
 \n? START 21:00\n?WJAZD 10 PLN\n?ELEFUNK THE CLUB \n? DO 22 PANIE WCHODZĄ
  ZA DARMO\n\n\n? muza znana i lubiana\, hity na czasie\, mocny EDM\, hip h
 op bez youtubowych raperów\, trap\n\n? podsumowując mistrzu\, widzimy si
 ę na grubym melanżu\, twoje laski wchodzą do dziesiątej za free\, a o 
 1:00 wypijemy darmowe szoty na barze\, więc bądź czujny\, bo taca będz
 ie tylko jedna ?\n\n\n\n? CHCESZ WEJŚĆ ZA FREE? ?\nRozdamy tylko 10 wej
 ściówek plus osoba towarzysząca. \nCo zrobić żeby wygrać? \nZaproś 
 minimum 300 osób na to wydarzenie\, udostępnij je na swoim profilu\, w w
 iadomości prywatnej lub tutaj wrzuć screen/filmik. \n\n? OBCHODZISZ UROD
 ZINY? ?\nNapisz do nas na fanpage Mocniej \, sprawdź co dla Ciebie mamy ?
ATTACH;FMTTYPE=image/jpeg:https://night4u.pl/wp-content/uploads/2019/09/62
 534_image_69876778_462073164389644_7022316213799747584_n.jpg
CATEGORIES:zachodniopomorskie
LOCATION:Elefunk The Club\, pl. Żołnierza Polskiego 2\, Szczecin\, 70-551
 \, Poland
GEO:53.42819;14.55416
X-APPLE-STRUCTURED-LOCATION;VALUE=URI;X-ADDRESS=pl. Żołnierza Polskiego 2
 \, Szczecin\, 70-551\, Poland;X-APPLE-RADIUS=100;X-TITLE=Elefunk The Club:
 geo:53.42819,14.55416
END:VEVENT
BEGIN:VTIMEZONE
TZID:Europe/Warsaw
X-LIC-LOCATION:Europe/Warsaw
BEGIN:DAYLIGHT
DTSTART:20190331T030000
TZOFFSETFROM:+0100
TZOFFSETTO:+0200
TZNAME:CEST
END:DAYLIGHT
END:VTIMEZONE
END:VCALENDAR