BEGIN:VCALENDAR
VERSION:2.0
PRODID:-//wp-events-plugin.com//7.2.3.1//EN
TZID:Europe/Warsaw
X-WR-TIMEZONE:Europe/Warsaw
BEGIN:VEVENT
UID:46389@night4u.pl
DTSTART;TZID=Europe/Warsaw:20200221T220000
DTEND;TZID=Europe/Warsaw:20200222T050000
DTSTAMP:20200221T214948Z
URL:https://night4u.pl/wydarzenia/zakuc-zaliczyc-zatanczyc-2/
SUMMARY:Zakuć Zaliczyć Zatańczyć
DESCRIPTION:Zakuć\, Zaliczyć\, Zatańczyć!?\n\nRada Samorządu Studentó
 w WE UG wraz z Gorzko Gorzko Sopot mają zaszczyt zaprosić wszystkich na 
 imprezę wydziału ekonomicznego!\n\nJak zawsze przygotowaliśmy dla Was k
 upony na welcome drinki !!!\nUczcijmy zaliczoną sesję z hukiem! \n\nNa p
 arkiecie czekają na Was: pociągi\, kółeczka\, kaczuszki i inne kankany
 .\nO godz. 2:00 kultowe oczepiny.\nPrzez całą noc szampan\, stolik wiejs
 ki i najlepsza weselna muzyka.\n\n♥♥♥♥♥♥♥♥♥♥♥♥♥
 ♥♥♥\n▬▬▬▬▬▬▬▬▬▬▬▬▬▬▬▬▬▬▬▬▬
 ▬▬▬▬▬▬▬\n\nWstęp:\n[18+] - wyłącznie za okazaniem dokumen
 tu tożsamości\n\n22:00-23:00 (Lista Fb) - free\n22:00-24:00 (Studenci WE
  UG) - free\n22:00-24:00 ESN band - free entrance and welcome drink\nPozos
 tali - 10 PLN\n\nBez stroju formalnego\, ubierz się tak jak Ci wygodnie.\
 nRzecz jasna nie zakładamy dresów\, bojówek\, itp. strojów\, które zo
 stawiamy sobie na wypad na domek za miasto.\n\n▬▬▬▬▬▬▬▬▬
 ▬▬▬▬▬▬▬▬▬▬▬▬▬▬▬▬▬▬▬\n\nGorzko Gorzko
  Sopot to klub\, w którym w każdy Piątek i Sobotę odbywają się dysko
 teki weselne.\nWodzirej\, fotobudka\, muzyka i zabawy weselne\, przekąski
  oraz powitalny szampan.\nTo tylko część z atrakcji\, których u nas do
 świadczycie.\n\nHej wesele\, hej wesele tańcowało... !
ATTACH;FMTTYPE=image/jpeg:https://night4u.pl/wp-content/uploads/2020/02/15
 2174_image_86874656_2538695163124460_4383966478731313152_n.jpg
CATEGORIES:pomorskie
LOCATION:Gorzko Gorzko Sopot\, Armii Krajowej 111\, Sopot\, 81-824\, Poland
GEO:54.444101;18.55535
X-APPLE-STRUCTURED-LOCATION;VALUE=URI;X-ADDRESS=Armii Krajowej 111\, Sopot\
 , 81-824\, Poland;X-APPLE-RADIUS=100;X-TITLE=Gorzko Gorzko Sopot:geo:54.44
 4101,18.55535
END:VEVENT
BEGIN:VTIMEZONE
TZID:Europe/Warsaw
X-LIC-LOCATION:Europe/Warsaw
BEGIN:STANDARD
DTSTART:20191027T020000
TZOFFSETFROM:+0200
TZOFFSETTO:+0100
TZNAME:CET
END:STANDARD
END:VTIMEZONE
END:VCALENDAR