BEGIN:VCALENDAR
VERSION:2.0
PRODID:-//wp-events-plugin.com//7.2.3.1//EN
TZID:Europe/Warsaw
X-WR-TIMEZONE:Europe/Warsaw
BEGIN:VEVENT
UID:42700@night4u.pl
DTSTART;TZID=Europe/Warsaw:20200121T200000
DTEND;TZID=Europe/Warsaw:20200122T010000
DTSTAMP:20200331T191255Z
URL:https://night4u.pl/wydarzenia/zasypianie-impro-muzyka-do-zasypiania-18
 -koncert-ula-stosio/
SUMMARY:Zasypianie - impro muzyka do zasypiania #18 koncert Ula Stosio
DESCRIPTION:ZASYPIANIE - Improwizowana muzyka do zasypiania - otwarte jam s
 ession\n\nNa najbliższym zasypianiu około 21.00 koncert zagra Ula Stosio
 : gitarzystka orientalna grająca też na sazie\, misach tybetańskich\, c
 ytrze węgierskiej i cymbałach irańskich Santoor. W swojej grze\, opróc
 z tradycyjnych instrumentów\, wykorzystuje też sporo elektroniki. Jej mu
 zyka określana jest jako mieszanka takich gatunków jak orient/ambient/gr
 oove. \nJej liczne  podróże po krajach Azji w poszukiwaniu źródeł muz
 yki wschodu\, przyniosły nowe harmonie\, oraz na zawsze naznaczyły chara
 kter jej solowej muzyki. Na rodzimym rynku muzycznym Urszula Stosio ma udo
 kumentowaną udaną współpracę z Renatą Przemyk\, Karoliną Skrzyńsk
 ą\, The Dolls\, Karpaty Magiczne\, Miss Understood\, Orientalny Punkt G. 
 i z Magdą Piskorczyk i Acoustic Ethno Orchestra. \n\nLinki do nagran: \n\
 nhttps://www.youtube.com/playlist?list=PLpI5i9b4gZyokV-jVMbYz4JeV7ynfJprL\
 n\nhttps://www.facebook.com/urszula.stosio.guitar/\n\n--------------------
 ----------------------------------------------------------------------\nZA
 SYPIANIE - o co chodzi? Przeczytaj koniecznie!\n\nMuzyku :\nZapraszamy Ci
 ę na otwarte jam session z muzyką ambient\, free\, chillout\, psychodeli
 a\, dark jazz\,elektronika.\nZasypianie to przestrzeń i czas dla muzyczny
 ch spotkań i eksperymentów z wyraźnie przyświecającym nam celem - two
 rzymy muzykę do snu.\nZapraszamy do współudziału muzyków o dowolnym i
 nstrumentarium oraz twórców elektroniki.\nZe względu na konwencję odra
 dzamy 'twarde' instrumenty perkusyjne\, miast tego\, polecamy kije deszczo
 we\, shakery itp...\nLiczymy na to\, że zechcesz zmierzyć się razem z n
 ami z wyzwaniem oszczędnej\, zachowawczej\, minimalistycznej\, improwizow
 anej ekspresji. W formule\, która na pierwszym miejscu kładzie spójnoś
 ć utworu i budowanie nastroju.\n\nhttps://www.facebook.com/Zasypianie/\n\
 nOrganizatorem sesji są Klub Piękny Pies\, NPZM oraz Fren.\n\nfotografia
 \nwww.redink.pl/\n\n------------------------------------------------------
 ------------------------------------\nWSTĘP WOLNY
ATTACH;FMTTYPE=image/jpeg:https://night4u.pl/wp-content/uploads/2020/01/13
 5345_image_81809245_3425508087490410_5419085590278701056_o.jpg
CATEGORIES:małopolskie
LOCATION:Klub Piękny Pies\, Plac Wolnica 9\, Kraków\, 31-060\, Poland
GEO:50.0489;19.94481
X-APPLE-STRUCTURED-LOCATION;VALUE=URI;X-ADDRESS=Plac Wolnica 9\, Kraków\, 
 31-060\, Poland;X-APPLE-RADIUS=100;X-TITLE=Klub Piękny Pies:geo:50.0489,1
 9.94481
END:VEVENT
BEGIN:VTIMEZONE
TZID:Europe/Warsaw
X-LIC-LOCATION:Europe/Warsaw
BEGIN:STANDARD
DTSTART:20191027T020000
TZOFFSETFROM:+0200
TZOFFSETTO:+0100
TZNAME:CET
END:STANDARD
END:VTIMEZONE
END:VCALENDAR