BEGIN:VCALENDAR
VERSION:2.0
PRODID:-//wp-events-plugin.com//7.2.3.1//EN
TZID:Europe/Warsaw
X-WR-TIMEZONE:Europe/Warsaw
BEGIN:VEVENT
UID:31120@night4u.pl
DTSTART;TZID=Europe/Warsaw:20191026T190000
DTEND;TZID=Europe/Warsaw:20191026T220000
DTSTAMP:20191026T004243Z
URL:https://night4u.pl/wydarzenia/zeamsone-hundred-bands-tour-bialystok/
SUMMARY:Zeamsone / Hundred Bands TOUR / Białystok
DESCRIPTION:artist\; Zeamsone\ndate\; 26th October\, 7pm\ncity\; Bialystok\
 n\n„Jeśli wszystko\, co mówisz jest prawdą\,\nWszystko\, co myślisz 
 to kłamstwo.”\n\nHundred Bands to drugie LP przemyskiego rapera\, a co 
 za tym idzie jego druga trasa koncertowa po największych miastach w Polsc
 e.\n\n❌ WSTĘP ❌\nBilety do kupienia online\nhttps://ticketos.pl/event
 /2650/zeamsone-hundred-bands-tour-bialystok\n\nI Pula - 30 PLN ilość ogr
 aniczona\nII Pula - 40 PLN\n\nBilet będą dostępne również na bramce\n
 \nBilety do kupienia również w kasie klubowej w dniu koncertu.\n\nZAPISU
 JCIE SIĘ DO WYDARZENIA! WIĘCEJ INFO WKRÓTCE!\n\n★★★★★★★
 ★★★★★★★★★★★★★★★★★★★★★★★\n\n
 ► Miejsce: Elixir Club ul. Lipowa 30 🎉\n\n► Data: 26.10.2019 🔜 S
 OBOTA\n\n► Start: 19:00 🔥 \nKoncert rozpocznie się o godzinie 20.30\
 nKoniec: 21.30\n\nOd godziny 22.00 after 18+\n(Kupno biletu na koncert upo
 ważnia do uczestnictwa na sobotniej imprezie w Elixir Club po godz.22.00)
 \n\n- Poniżej 16lat - wymagana obecność pełnoletniego opiekuna.\nWzór
  zgody opiekuna - https://tinyurl.com/y5h7vg9g
ATTACH;FMTTYPE=image/jpeg:https://night4u.pl/wp-content/uploads/2019/10/72
 357_image_72447388_2575544699176705_8320863218847186944_n.jpg
CATEGORIES:podlaskie
LOCATION:Elixir Club\, ul. Lipowa 30\, Białystok\, 15-427\, Poland
GEO:53.13423;23.1484
X-APPLE-STRUCTURED-LOCATION;VALUE=URI;X-ADDRESS=ul. Lipowa 30\, Białystok\
 , 15-427\, Poland;X-APPLE-RADIUS=100;X-TITLE=Elixir Club:geo:53.13423,23.1
 484
END:VEVENT
BEGIN:VTIMEZONE
TZID:Europe/Warsaw
X-LIC-LOCATION:Europe/Warsaw
BEGIN:DAYLIGHT
DTSTART:20190331T030000
TZOFFSETFROM:+0100
TZOFFSETTO:+0200
TZNAME:CEST
END:DAYLIGHT
END:VTIMEZONE
END:VCALENDAR