BEGIN:VCALENDAR
VERSION:2.0
PRODID:-//wp-events-plugin.com//7.2.3.1//EN
TZID:Europe/Warsaw
X-WR-TIMEZONE:Europe/Warsaw
BEGIN:VEVENT
UID:3037@night4u.pl
DTSTART;TZID=Europe/Warsaw:20190112T210000
DTEND;TZID=Europe/Warsaw:20190113T050000
DTSTAMP:20190108T162608Z
URL:https://night4u.pl/wydarzenia/zespol-bayera-w-dyskotece-wesele-hit-obr
 aczki-szczerozlote/
SUMMARY:Zespół Bayera w Dyskotece Wesele! HIT! Obrączki Szczerozłote!
DESCRIPTION:Dam tej dziewczynie obrączki szczerozłote\, \ndać mogę wszy
 stko na co ma ochotę.\nDam tej dziewczynie\, dziś kawałek nieba\,\npowi
 edz mi kochanie czego Ci potrzeba!\n\nNowy Rok zaczynamy mocnym akcentem! 
 Już 12 Stycznia o 21.00 w naszym klubie wystąpi MEGA gwiazda muzyki disc
 o... ZESPÓŁ BAYERA!\n\n⭐️ Twórca takich hitów jak:\nOBRĄCZKI SZCZ
 EROZŁOTE - https://youtu.be/7do4mTUoUAM\nTA SZALONA DZIEWCZYNA - https://
 youtu.be/BYGq4-VJS_U\nBEZ CIEBIE ŻYĆ NIE MOGĘ - https://youtu.be/LnMvba
 aOIv4\n\n⭐️ Zapraszamy wszystkich mieszkańców Kaszub\, Trójmiasta i
  nie tylko na WESELE w KARNAWALE!\n\n⭐️ Państwo młodzi już na samym
  wejściu przywitają gości poczęstunkiem w postaci wiejskiego stołu or
 az pyszną wódeczką weselną i szampanem!\n\n⭐️⭐️ ATRAKCJE w WES
 ELU ⭐️⭐️\nFOTOBUDKA / DJ & WODZIREJ / NAJLEPSZE ZABAWY WESELNE / O
 RKIESTRA i WIELE INYCH!\n\n⭐️ ⭐ Imprezę poprowadzi DJ & WODZIREJ 
 ⭐️ ⭐\n\n❤️ Kultowe oczepiny o godzinie 2.00 ❤️\n♥♥♥♥
 ♥♥♥♥♥♥♥♥♥♥♥♥♥♥♥♥♥♥♥♥\nGRAMY od 21.
 00 do ostatniego gościa!\n▬▬▬▬▬▬▬▬▬▬▬▬▬▬▬
 ▬▬▬▬▬▬▬▬▬▬▬▬\nCENY BILETÓW:\n[18+] - za okazaniem
  dokumentu tożsamości\nDo 22.00 - Wstęp 20 zł\nPo 22.00 - Wstęp 25 z
 ł\nTylko u nas Wesela bez koperty i krawatów!\n\n⭐️ REZERWACJE BILET
 ÓW & STOLIKÓW: +48 664 462 129\n\nNa imprezie obowiązuje wygodny niefor
 malny strój taki jak dla Ciebie jest wygodny - jednak bez elementów spor
 towych m.in dresów\, czapek itp. Prosimy zostaw\, to w domu lub zabierz n
 a działkę ✌️\n\n⭐️ ADRES: LĘBORSKA 4A\, SIERAKOWICE (Wejście o
 d tyłów Biedronki)\n\n⭐️ DYSKOTEKI WESELE to sieć klubów\, w któr
 ych w Soboty\, a także w sezonie w Łebie codziennie odbywają się dysko
 teki wesele! DJ & Wodzirej\, foto budka\, zabawy weselne\, przekąski oraz
  powitalny szampan i wiejski stolik\, to tylko część z atrakcji\, z kt
 órych u nas możecie skorzystać! \n\nWszystkich zainteresowanych dołąc
 zeniem do sieci zapraszamy do kontaktu.
ATTACH;FMTTYPE=image/jpeg:https://night4u.pl/wp-content/uploads/2019/01/10
 194_image_49726418_763298177378569_2087651235988504576_o.jpg
CATEGORIES:pomorskie
LOCATION:Dyskoteka Wesele Sierakowice\, lęborska 4a\, Sierakowice\, 83-340
 \, Poland
GEO:54.34629;17.89227
X-APPLE-STRUCTURED-LOCATION;VALUE=URI;X-ADDRESS=lęborska 4a\, Sierakowice\
 , 83-340\, Poland;X-APPLE-RADIUS=100;X-TITLE=Dyskoteka Wesele Sierakowice:
 geo:54.34629,17.89227
END:VEVENT
BEGIN:VTIMEZONE
TZID:Europe/Warsaw
X-LIC-LOCATION:Europe/Warsaw
BEGIN:STANDARD
DTSTART:20181028T020000
TZOFFSETFROM:+0200
TZOFFSETTO:+0100
TZNAME:CET
END:STANDARD
END:VTIMEZONE
END:VCALENDAR