BEGIN:VCALENDAR
VERSION:2.0
PRODID:-//wp-events-plugin.com//7.2.3.1//EN
TZID:Europe/Warsaw
X-WR-TIMEZONE:Europe/Warsaw
BEGIN:VEVENT
UID:3040@night4u.pl
DTSTART;TZID=Europe/Warsaw:20190119T210000
DTEND;TZID=Europe/Warsaw:20190120T050000
DTSTAMP:20190108T162610Z
URL:https://night4u.pl/wydarzenia/zespol-mejk-w-dyskotece-wesele-hit-tancz
 e-z-nim-do-rana/
SUMMARY:Zespół Mejk w Dyskotece Wesele! HIT! Tańczę z nim do rana!
DESCRIPTION:Tańczę z nim do rana\nChcę być dziś porwana.\nTańczę z n
 im do rana\nJestem zakochana.\nTańczę z nim do rana\,\nBędę niewyspana
 .\nTańczę z nim do rana\nTańczę z nim...\n\nSobota\, wieczór\, jestem
  już gotowa\nZamknę za sobą tylko drzwi.\nZaczynam dzisiaj życie swe o
 d nowa\nDzisiaj zatańczy w Weselu właśnie z właśnie Zespół Mejk!\n\
 nNowy Rok zaczynamy mocnym akcentem! Już 12 Stycznia o 21.00 w naszym klu
 bie wystąpi MEGA gwiazda muzyki disco... ZESPÓŁ BAYERA!\n\n⭐️ Twór
 ca takich hitów jak:\nBO TO MIŁOŚĆ - https://youtu.be/tiPi8-BpxHc\nTA
 ŃCZE Z NIM DO RANA - https://youtu.be/mdHxlyne584\nNA PARTERZE - https://
 youtu.be/dSIcwErnzOQ\n\n⭐️ Zapraszamy wszystkich mieszkańców Kaszub\
 , Trójmiasta i nie tylko na WESELE w KARNAWALE!\n\n⭐️ Państwo młodz
 i już na samym wejściu przywitają gości poczęstunkiem w postaci wiejs
 kiego stołu oraz pyszną wódeczką weselną i szampanem!\n\n⭐️⭐️
  ATRAKCJE w WESELU ⭐️⭐️\nFOTOBUDKA / DJ & WODZIREJ / NAJLEPSZE ZAB
 AWY WESELNE / ORKIESTRA i WIELE INYCH!\n\n⭐️ ⭐ Imprezę poprowadzi D
 J & WODZIREJ ⭐️ ⭐\n\n❤️ Kultowe oczepiny o godzinie 2.00 ❤️\
 n♥♥♥♥♥♥♥♥♥♥♥♥♥♥♥♥♥♥♥♥♥♥♥♥\
 nGRAMY od 21.00 do ostatniego gościa!\n▬▬▬▬▬▬▬▬▬▬▬
 ▬▬▬▬▬▬▬▬▬▬▬▬▬▬▬▬\nCENY BILETÓW:\n[18+] - 
 za okazaniem dokumentu tożsamości\nDo 22.00 - Wstęp 20 zł\nPo 22.00 - 
 Wstęp 25 zł\nTylko u nas Wesela bez koperty i krawatów!\n\n⭐️ REZER
 WACJE BILETÓW & STOLIKÓW: +48 664 462 129\n\nNa imprezie obowiązuje wyg
 odny nieformalny strój taki jak dla Ciebie jest wygodny - jednak bez elem
 entów sportowych m.in dresów\, czapek itp. Prosimy zostaw\, to w domu lu
 b zabierz na działkę ✌️\n\n⭐️ ADRES: LĘBORSKA 4A\, SIERAKOWICE 
 (Wejście od tyłów Biedronki)\n\n⭐️ DYSKOTEKI WESELE to sieć klubó
 w\, w których w Soboty\, a także w sezonie w Łebie codziennie odbywają
  się dyskoteki wesele! DJ & Wodzirej\, foto budka\, zabawy weselne\, prze
 kąski oraz powitalny szampan i wiejski stolik\, to tylko część z atrak
 cji\, z których u nas możecie skorzystać! \n\nWszystkich zainteresowany
 ch dołączeniem do sieci zapraszamy do kontaktu.
ATTACH;FMTTYPE=image/jpeg:https://night4u.pl/wp-content/uploads/2019/01/10
 200_image_49393484_762836537424733_8875703655538360320_o.jpg
CATEGORIES:pomorskie
LOCATION:Dyskoteka Wesele Sierakowice\, lęborska 4a\, Sierakowice\, 83-340
 \, Poland
GEO:54.34629;17.89227
X-APPLE-STRUCTURED-LOCATION;VALUE=URI;X-ADDRESS=lęborska 4a\, Sierakowice\
 , 83-340\, Poland;X-APPLE-RADIUS=100;X-TITLE=Dyskoteka Wesele Sierakowice:
 geo:54.34629,17.89227
END:VEVENT
BEGIN:VTIMEZONE
TZID:Europe/Warsaw
X-LIC-LOCATION:Europe/Warsaw
BEGIN:STANDARD
DTSTART:20181028T020000
TZOFFSETFROM:+0200
TZOFFSETTO:+0100
TZNAME:CET
END:STANDARD
END:VTIMEZONE
END:VCALENDAR