BEGIN:VCALENDAR
VERSION:2.0
PRODID:-//wp-events-plugin.com//7.2.3.1//EN
TZID:Europe/Warsaw
X-WR-TIMEZONE:Europe/Warsaw
BEGIN:VEVENT
UID:16207@night4u.pl
DTSTART;TZID=Europe/Warsaw:20190529T180000
DTEND;TZID=Europe/Warsaw:20190530T000000
DTSTAMP:20190515T212110Z
URL:https://night4u.pl/wydarzenia/zespol-uklad-gra-na-zywo-dancing-w-fabry
 ce/
SUMMARY:Zespół Układ gra na żywo Dancing w Fabryce!
DESCRIPTION:Zespół Muzyczny "UKŁAD" z Zielonej Góry gra muzykę do tań
 ca używając do tego instrumentów oraz umiejętności i własnego talent
 u. 100% muzyki na żywo. 100% dancingu\, jak za dawnych lat w Klubie muzyc
 znym Fabryka! Jeśli kochacie tańczyć\, lubicie dobrze się bawić i mac
 ie ochotę posłuchać pięknego głosu Jadwigi Macewicz w akompaniamencie
  wyjątkowych muzyków\, z których stworzony jest zespół Układ\, to mu
 sicie być 29 maja z nami! Zapraszamy!\n\nJadwiga Macewicz – vocal\nEuge
 niusz Olejniczak- sax tenor\, sax alt\, klarnet\, vocal\nLeszek Jastrubcza
 k - instrumenty klawiszowe\, vocal\nBogdan Polikowski – gitara\, vocal\n
 Mirosław Bombik – gitara basowa\, vocal\nRyszard Zembrzuski – perkusj
 a\,
ATTACH;FMTTYPE=image/jpeg:https://night4u.pl/wp-content/uploads/2019/05/39
 710_image_60070790_441604839939477_1743545693252878336_n.jpg
CATEGORIES:lubuskie
LOCATION:Fabryka\, ul. Moniuszki 16\, Zielona Góra\, 65-001\, Poland
GEO:51.93424;15.50022
X-APPLE-STRUCTURED-LOCATION;VALUE=URI;X-ADDRESS=ul. Moniuszki 16\, Zielona 
 Góra\, 65-001\, Poland;X-APPLE-RADIUS=100;X-TITLE=Fabryka:geo:51.93424,15
 .50022
END:VEVENT
BEGIN:VTIMEZONE
TZID:Europe/Warsaw
X-LIC-LOCATION:Europe/Warsaw
BEGIN:DAYLIGHT
DTSTART:20190331T030000
TZOFFSETFROM:+0100
TZOFFSETTO:+0200
TZNAME:CEST
END:DAYLIGHT
END:VTIMEZONE
END:VCALENDAR