BEGIN:VCALENDAR
VERSION:2.0
PRODID:-//wp-events-plugin.com//7.2.3.1//EN
TZID:Europe/Warsaw
X-WR-TIMEZONE:Europe/Warsaw
BEGIN:VEVENT
UID:6059@night4u.pl
DTSTART;TZID=Europe/Warsaw:20190329T200000
DTEND;TZID=Europe/Warsaw:20190330T020000
DTSTAMP:20190201T053232Z
URL:https://night4u.pl/wydarzenia/zeus-bydgoszcz-29-03-19/
SUMMARY:Zeus - Bydgoszcz - 29.03.19
DESCRIPTION:Koncert promujący najnowszy album Zeusa pt."To Pomyłka". \nOp
 rócz premierowych utworów\, nie zabraknie dobrze znanych klasyków ze st
 arszych płyt. Występy Zeusa i ekipy Pierwszy Milion charakteryzują się
  ogromną dawką pozytywnej energii i mnóstwem niezapomnianych emocji. Na
  scenie wraz z głównym artystą Justyna Kuśmierczyk\, Joteste i DJ Mixa
 ir. O brzmienie koncertu zadba niezawodny Rogini.\n\nBilety online: https:
 //www.biletomat.pl/hip-hop-reggae/zeus-bydgoszcz-koncert-z-nowa-plyta-bydg
 oszcz-7753/
ATTACH;FMTTYPE=image/jpeg:https://night4u.pl/wp-content/uploads/2019/01/18
 146_image_51706774_2100530400031665_6673111595695996928_o.jpg
CATEGORIES:kujawsko-pomorskie
LOCATION:Wiatrakowa Klub\, \, 
X-APPLE-STRUCTURED-LOCATION;VALUE=URI;X-ADDRESS=\, ;X-APPLE-RADIUS=100;X-TI
 TLE=Wiatrakowa Klub:geo:0,0
END:VEVENT
BEGIN:VTIMEZONE
TZID:Europe/Warsaw
X-LIC-LOCATION:Europe/Warsaw
BEGIN:STANDARD
DTSTART:20181028T020000
TZOFFSETFROM:+0200
TZOFFSETTO:+0100
TZNAME:CET
END:STANDARD
END:VTIMEZONE
END:VCALENDAR