BEGIN:VCALENDAR
VERSION:2.0
PRODID:-//wp-events-plugin.com//7.2.3.1//EN
TZID:Europe/Warsaw
X-WR-TIMEZONE:Europe/Warsaw
BEGIN:VEVENT
UID:48790@night4u.pl
DTSTART;TZID=Europe/Warsaw:20201010T190000
DTEND;TZID=Europe/Warsaw:20201011T020000
DTSTAMP:20200504T090804Z
URL:https://night4u.pl/wydarzenia/zeus-lodz-10-10-2020/
SUMMARY:Zeus - Łódź - 10.10.2020
DESCRIPTION:Pierwszy Milion i Łódzkie Charaktery mają ogromną przyjemno
 ść zaprosić wszystkich na koncert Zeusa promującego swój najnowszy al
 bum “W poszukiwaniu siebie”. Na scenie nie zabraknie osób związanych
  z ekipą Pierwszy Milion\, jaki dobrze znanych utworów z poprzednich pł
 yt. \n\nKup bilet online: https://www.biletomat.pl/hip-hop-reggae/zeus-w-p
 oszukiwaniu-siebie-lodz-9183/\n\nBilety stacjonarne: Próchnika 5\, Polski
  Street Szop
ATTACH;FMTTYPE=image/jpeg:https://night4u.pl/wp-content/uploads/2020/02/16
 6901_image_86190752_2839665176118180_156804097721237504_o.jpg
CATEGORIES:łódzkie
LOCATION:SODA Underground Stage\, Plac Komuny Paryskiej 6\, Łódź\, 90-00
 7\, Poland
GEO:51.76518;19.45941
X-APPLE-STRUCTURED-LOCATION;VALUE=URI;X-ADDRESS=Plac Komuny Paryskiej 6\, 
 Łódź\, 90-007\, Poland;X-APPLE-RADIUS=100;X-TITLE=SODA Underground Stag
 e:geo:51.76518,19.45941
END:VEVENT
BEGIN:VTIMEZONE
TZID:Europe/Warsaw
X-LIC-LOCATION:Europe/Warsaw
BEGIN:DAYLIGHT
DTSTART:20200329T030000
TZOFFSETFROM:+0100
TZOFFSETTO:+0200
TZNAME:CEST
END:DAYLIGHT
END:VTIMEZONE
END:VCALENDAR