BEGIN:VCALENDAR
VERSION:2.0
PRODID:-//wp-events-plugin.com//7.2.3.1//EN
TZID:Europe/Warsaw
X-WR-TIMEZONE:Europe/Warsaw
BEGIN:VEVENT
UID:22690@night4u.pl
DTSTART;TZID=Europe/Warsaw:20191119T203000
DTEND;TZID=Europe/Warsaw:20191119T223000
DTSTAMP:20191119T055717Z
URL:https://night4u.pl/wydarzenia/zielona-gora-i-grzegorz-dolniak-i-termin
 -przydatnosci-support/
SUMMARY:Zielona Góra I Grzegorz Dolniak I Termin przydatności + support
DESCRIPTION:Termin przydatności to najnowszy program stand-up Grzegorz Dol
 niaka\, w którym z charakterystyczną dla siebie ekspresją opowie o życ
 iu człowieka w wieku chrystusowym\, który zdał sobie sprawę\, że proc
 es starzenia nie zaczyna się w wieku lat 50\, 60 czy 70\, a już po 30-tc
 e. Termin przydatności to godzina pełna humoru obserwacyjnego okraszoneg
 o brawurowymi kreacjami aktorskimi\, odrobiną improwizacji i tematami bli
 skimi każdemu z nas.\n\nprowadzenie - Janusz Pietruszka\nsupport – Dami
 an "Viking" Usewicz - szczeciński komik\, konferansjer oraz organizator i
 mprez komediowych. Ze sceną związany od niemal 10 lat. Organizator i pro
 wadzący niezliczonej ilości imprez komediowych. Gospodarz kilku scen sta
 nd-upowych w swoim regionie.\n\n*bilety – 30 zł przedsprzedaż / 40 zł
  w dniu imprezy\n*wydarzenie dla widzów dorosłych\n*osoby przeszkadzają
 ce w występie zostaną wyproszone bez możliwości zwrotu pieniędzy za b
 ilet
ATTACH;FMTTYPE=image/jpeg:https://night4u.pl/wp-content/uploads/2019/11/53
 635_image_75348973_2556964984523371_4592635987338723328_o.jpg
CATEGORIES:lubuskie
LOCATION:Kawon Piwnica Artystyczna\, Zamkowa 5\, Zielona Góra\, 65-086\, P
 oland
GEO:51.941922;15.502279
X-APPLE-STRUCTURED-LOCATION;VALUE=URI;X-ADDRESS=Zamkowa 5\, Zielona Góra\,
  65-086\, Poland;X-APPLE-RADIUS=100;X-TITLE=Kawon Piwnica Artystyczna:geo:
 51.941922,15.502279
END:VEVENT
BEGIN:VTIMEZONE
TZID:Europe/Warsaw
X-LIC-LOCATION:Europe/Warsaw
BEGIN:STANDARD
DTSTART:20191027T020000
TZOFFSETFROM:+0200
TZOFFSETTO:+0100
TZNAME:CET
END:STANDARD
END:VTIMEZONE
END:VCALENDAR