BEGIN:VCALENDAR
VERSION:2.0
PRODID:-//wp-events-plugin.com//7.2.3.1//EN
TZID:Europe/Warsaw
X-WR-TIMEZONE:Europe/Warsaw
BEGIN:VEVENT
UID:14570@night4u.pl
DTSTART;TZID=Europe/Warsaw:20190608T193000
DTEND;TZID=Europe/Warsaw:20190609T033000
DTSTAMP:20190430T150933Z
URL:https://night4u.pl/wydarzenia/zion-armia-w-ajrisz-pub-levels/
SUMMARY:Zion Armia w Ajrisz Pub/Levels
DESCRIPTION:JAHBESTIN!\nKasia Godzisz!\nCzasin!\nBoleo & Follow The Riddim!
 \nDJ Dobry z wieczora!\nW naszym klubowym Ajriszu - Levelsie\, będziemy m
 ieli okazję gościć absolutną śmietankę muzyczną! \nCzeka nas ogromn
 a dawka muzyki Reggae / Hip-Hop na bardzo wysokim poziomie \, a zważając
  na to że idzie lato i ciepłe dni\, możemy słuchać koncertu z poziomu
  naszego pięknego Patio odprężając się maksymalnie :D  A teraz słów
  kilka o każdym z naszych wspaniałych gości...\nJAHBESTIN - info:\n\nGr
 upa może się pochwalić wspólnymi koncertami z takimi artystami jak: Ka
 liber 44\, Formacja Nieżywych Schabuff\, GrubSon\, Pudelsi\, Hemp Gru\, C
 hłopcy z Placu Broni\, Deadly Hunta\, Peja\, Marika\, Bas Tajpan\, Jabama
 n\, Sokól\, JAMAL\, Pezet & Małolat\, Borgorem i Gutkiem\, oraz z wielom
 a innymi .\n\nPoczątki Jahbestin sięgają 1999 roku. Na samym początku 
 grupa liczyła pięciu członków w której w skład wchodził Webster\, G
 ustaff\, Kyjos" oraz DJ Wieży Trzaski "ERASPE"\nStyl muzyczny grupy jest 
 mieszanką rapu\, reggae\, ragga i funku. Pierwsze lata działalności to 
 dziesiątki koncertów na Nowo Sądeckiej scenie reggae - hip-hop. Do dzi
 ś występy na żywo stanowią najmocniejszą stronę zespołu\, stąd szy
 bko zyskała ona rzeszę zwolenników i stała się symbolem dobrej\, prze
 pełnionej pozytywną energią zabawy.\n\nPod koniec 2003 r. ze składu Ja
 hbestin odeszli Kyjos oraz Gustaff\, natomiast ERASPE. zamienił gramofony
  na mikrofon. W latach 2004 - 2006 zespół rezydował w Wielkiej Brytanii
 \, gdzie organizował i dawał koncerty. Pobyt na Wyspach zaowocował nagr
 aniem większości utworów na „Jahbestin Mixtape vol.1”. Na krążku 
 gościnnie pojawili się artyści z Francji: Koi i Black Soul Brothers\, a
  także Glama Wayne z Jamajki oraz Mc Alex z Anglii i DJ Feel X.\nPo powro
 cie do kraju Webster i ERASPE otworzyli w Krakowie organizację "ZION" - o
 ficjalne otwarcie odbyło się 16 lipca 2008 roku.\nPod koniec 2009 roku z
 espół wydał "Dziki Mixtape"\, który przyciągnął uwagę nowatorskim\
 , jak na Polskie warunki\, połączeniem reggae\, dancehallu oraz Hip Hopu
 .\nJesienią 2011 roku ukazała się składanka „ZionSquaDzik”\, w ca
 łości wyprodukowana przez artystów związanych z Jahbestin i Zion Studi
 o.\nZespół nie zwalniał tempa i w ramach założonego w 2002 roku Rasta
  Squadu wydał dwa mixtape’y („Vol.1” w 2011 r. i „Roluj Skręta
 ” w 2012 r.).\nO klasie bandu świadczy umieszczenie numeru „Wyciągni
 j Dłoń” na składance "Drużyna Mistrzów 1". Rok 2012 przyniósł ró
 wnież solowy\, rewelacyjny album Webstera - „Nawiedzony”\nJahbestin w
  2013 roku zagościł na trzech albumach: Pęka "Jak feniks z popiołów" 
 w utworze "Po co?" (viedeclip)\, a także na krążku Gliwickiego rapera V
 IRUZa "Pamiętaj jesteś kimś" w utworze "Drzewo Joshue" (videoclip) oraz
  na składance "Drużyna Mistrzów 2" w kawałku "Nie daj Sobie wmówić".
 \n\nW maju 2013 roku do sklepów muzycznych trafiła reedycja płyty „Zi
 onSquaDzik” wydana przez Fonografikę.\nWebster i ERASPE\, czyli obecny 
 skład JAHBESTIN\, w Czerwcu 2013 roku wydali swoją pierwszą długograj
 ącą płytę JAHBESTIN – „Dziki Wjazd” która również trafiła na
  półki sklepowe.\nJahbestin rośnie w siłę. Zapraszamy na fanpage zesp
 ołu \nhttps://www.facebook.com/JAHBESTIN\n\nKasia Godzisz - info:\n\nKasi
 a Godzisz jako pedagog opiekuje się także głosami gwiazd polskiej sceny
 . Autorka tekstów\, kompozytorka\, producentka muzyczna. Wokalistka sesyj
 na w wielu produkcjach muzycznych polskich i zagranicznych. Współpracowa
 ła m. in. z John C. Marshall czy Gregory Gaynair.\nWspółzałożycielka\
 , dyrektor zarządzający i artystyczny Natural Voice Perfection Institute
  w Krakowie. Absolwentka Wydziału Jazzu i Muzyki Rozrywkowej Akademii Muz
 ycznej w Katowicach. Pomysłodawca i organizator wielu przedsięwzięć ar
 tystycznych - dyrektor festiwalu "Dębica Open Festival"\, reżyser wielu 
 koncertów\, współtwórca musicalu "Cudowne Marzenia"\, organizator licz
 nych warsztatów dla wokalistów oraz szkoleń dla nauczycieli śpiewu. Je
 dnym słowem człowiek orkiestra!\n\nCzasin info:\nCzasin jest  pierwszym 
 artystą Hip-hopowym w Polsce śpiewający w języku hiszpańskim jako nat
 ive speaker. Ten młody MC pochodzi z Krakowa i obecnie pracuje w ZION Rec
 ords nad koleją płytą\n\nBoleo - info:\nBoleo z ekipą zawitają do nas
  już trzeci raz :D także wiemy na jak dużo ich stać :D  \nBoleo to wok
 alista i kompozytor związany z muzyką reggae od 2005 roku. Wcześniej wo
 kalista Cieszanowskiej Niagary\, a obecnie artysta pracujący nad solową 
 płytą przy współpracy ze składem Follow The Riddim.\n\nDJ Dobry z Wie
 czora\nco gra: dancehall\, reggae\, reggaeton\, ragga\, jungle\, hip hop\,
  roots\, dub\, funk&soul\, mash-up\, dnb\, break
ATTACH;FMTTYPE=image/jpeg:https://night4u.pl/wp-content/uploads/2019/04/36
 229_image_59286132_589705168172140_1018352272188375040_n.jpg
CATEGORIES:podkarpackie
LOCATION:Ajrisz Levels\, Słowackiego 4\, Krosno\, 38-400\, Poland
GEO:49.694471;21.765426
X-APPLE-STRUCTURED-LOCATION;VALUE=URI;X-ADDRESS=Słowackiego 4\, Krosno\, 3
 8-400\, Poland;X-APPLE-RADIUS=100;X-TITLE=Ajrisz Levels:geo:49.694471,21.7
 65426
END:VEVENT
BEGIN:VTIMEZONE
TZID:Europe/Warsaw
X-LIC-LOCATION:Europe/Warsaw
BEGIN:DAYLIGHT
DTSTART:20190331T030000
TZOFFSETFROM:+0100
TZOFFSETTO:+0200
TZNAME:CEST
END:DAYLIGHT
END:VTIMEZONE
END:VCALENDAR