BEGIN:VCALENDAR
VERSION:2.0
PRODID:-//wp-events-plugin.com//7.2.3.1//EN
TZID:Europe/Warsaw
X-WR-TIMEZONE:Europe/Warsaw
BEGIN:VEVENT
UID:10403@night4u.pl
DTSTART;TZID=Europe/Warsaw:20190815T190000
DTEND;TZID=Europe/Warsaw:20190815T220000
DTSTAMP:20190318T195612Z
URL:https://night4u.pl/wydarzenia/zmiana-miejsca-cavetown-15-08-2019-warsz
 awa-proxima/
SUMMARY:Zmiana miejsca! Cavetown: 15.08.2019 Warszawa\, Proxima
DESCRIPTION:Agencja Go Ahead zaprasza na koncert Cavetown! Młody muzyk wys
 tąpi 15 sierpnia w Warszawie.\n\nUwaga! W związku z ogromnym zainteresow
 aniem\, koncert Cavetown zostaje przeniesiony z Hydrozagadki do Proximy!\n
 \nRobin Skinner mimo młodego wieku (20 lat!) ma na swoim koncie już 4 al
 bumy. Nic w tym dziwnego\, ponieważ muzykę ma w genach – jego ojciec j
 est flecistą i głową wydziału muzyki na Uniwersytecie Cambridge. \n\nJ
 ego ostatni album\, „Lemon Boy”\, ukazał się w 2018 roku. Skinner tw
 orzy swoją muzykę samodzielnie\, jak sam podkreśla – w swojej sypialn
 i. Na płycie znajdziemy bardzo prawdziwe i osobiste teksty\, o których c
 iężko opowiadać mu w inny sposób niż poprzez muzykę. Wierzy\, że w 
 ten sposób może dotrzeć do ludzi\, którzy czują podobnie. Tytułowy u
 twór z nowego albumu ma już ponad 7 mln wyświetleń na Youtubie! Jego m
 uzykę można opisać jako folk-pop\, ale na „Lemon Boy” znajdziemy te
 z elementy elektroniki. \n\nPrzypominamy\, że kupując bilety od osób um
 ieszczających oferty odsprzedaży na Facebooku możecie Państwo zostać 
 oszukani – ryzykujecie w ten sposób kupno fałszywych wejściówek\, kt
 óre nie umożliwią wejścia na koncert. Prosimy o kupowanie biletów wy
 łącznie w autoryzowanych punktach sprzedaży! Autoryzowanymi punktami sp
 rzedaży nie są m.in. Viagogo\, Ticketswap\, Allegro\, OLX\n.\nData: 2019
 -08-15 (czwartek)\nMiasto: Warszawa\nMiejsce: Proxima\nCeny biletów: 69 z
 ł (przedsprzedaż) // 80 zł (w dniu koncertu) \nGodziny: 19:00 – wejś
 cie // 20:00 – start koncertu\nMiejsca zakupu: www.go-ahead.pl\, www.bil
 etomat.pl\, www.ebilet.pl\, www.ticketmaster.pl\, www.empikbilety.pl oraz 
 sklepy sieci Empik\, Media Markt.
ATTACH;FMTTYPE=image/jpeg:https://night4u.pl/wp-content/uploads/2019/03/27
 465_image_53792490_10161669382690486_4645332955433009152_o.jpg
CATEGORIES:mazowieckie
LOCATION:Klub Proxima\, ul. Żwirki i Wigury 99a\, Warsaw\, 02-089\, Poland
GEO:52.212586;20.98704
X-APPLE-STRUCTURED-LOCATION;VALUE=URI;X-ADDRESS=ul. Żwirki i Wigury 99a\, 
 Warsaw\, 02-089\, Poland;X-APPLE-RADIUS=100;X-TITLE=Klub Proxima:geo:52.21
 2586,20.98704
END:VEVENT
BEGIN:VTIMEZONE
TZID:Europe/Warsaw
X-LIC-LOCATION:Europe/Warsaw
BEGIN:DAYLIGHT
DTSTART:20190331T030000
TZOFFSETFROM:+0100
TZOFFSETTO:+0200
TZNAME:CEST
END:DAYLIGHT
END:VTIMEZONE
END:VCALENDAR