BEGIN:VCALENDAR
VERSION:2.0
PRODID:-//wp-events-plugin.com//7.2.3.1//EN
TZID:Europe/Warsaw
X-WR-TIMEZONE:Europe/Warsaw
BEGIN:VEVENT
UID:45492@night4u.pl
DTSTART;TZID=Europe/Warsaw:20211013T190000
DTEND;TZID=Europe/Warsaw:20211013T230000
DTSTAMP:20210908T144719Z
URL:https://night4u.pl/wydarzenia/zola-blood-11-5-bardzo-bardzo-warszawa/
SUMMARY:Zola Blood • Warszawa
DESCRIPTION:Pierwszy polski koncert brytyjskiego zespołu Zola Blood zosta
 ł przeniesiony na nową datę! Autorzy takich utworów jak „Play Out”
  i „Pieces of The Day” wystąpią 13 października 2021 w warszawskim 
 klubie Hydrozagadka. Bilety w cenie 49 zł są już dostępne na fource.pl
 \, GoOut.pl\, Eventim.pl\, Ticketmaster.pl\, Biletomat.pl\, Going.pl i w E
 mpikach. Bilety zakupione na poprzednią datę zachowują ważność.\n\n
 🎟️ BILETY | TICKETS: 🎟️\nfource.pl: http://bit.ly/37BEwRH\nGoOut
 .pl: http://bit.ly/2RE1ke4\nGoing: http://bit.ly/3198SZx\nEventim.pl: http
 s://bit.ly/2Ybr4SF\nTicketmaster.pl: https://bit.ly/2KE5kH5\nBiletomat.pl:
  http://bit.ly/3aX3Fsf\nWszystkie Empiki\n \n 📒 FAQ: http://bit.ly/Four
 ceFAQ\n 📒 REGULAMIN: http://bit.ly/FourceRegulamin2020\n 📒 ZGODA ROD
 ZICÓW: http://bit.ly/FourceZgoda\n\nBritish electronic band Zola Blood's 
 first concert in Poland was moved to Hydrozagadka to 2021! Authors of such
  songs as "Play Out" and "Pieces of The Day" will perform in Warsaw on Oct
 ober 13th 2021. Tickets at the price of PLN 49 are now available at fource
 .pl\, GoOut.pl\, Eventim.pl\, Ticketmaster.pl\, Biletomat.pl\, Going.pl an
 d all Empik stores. Tickets purchased for the previous date are valid.\n\n
 Patronat medialny: Example.pl
ATTACH;FMTTYPE=image/jpeg:https://night4u.pl/wp-content/uploads/2021/04/14
 7654_image_145429646_3718550024891100_7010185983381742599_n.jpg
CATEGORIES:mazowieckie
LOCATION:Klub Hydrozagadka\, 11 listopada 22\, 03-436 Warszawa\, Poland\, P
 raga\, 03-436\, Poland
GEO:52.259283;21.036925
X-APPLE-STRUCTURED-LOCATION;VALUE=URI;X-ADDRESS=11 listopada 22\, 03-436 Wa
 rszawa\, Poland\, Praga\, 03-436\, Poland;X-APPLE-RADIUS=100;X-TITLE=Klub 
 Hydrozagadka:geo:52.259283,21.036925
END:VEVENT
BEGIN:VTIMEZONE
TZID:Europe/Warsaw
X-LIC-LOCATION:Europe/Warsaw
BEGIN:DAYLIGHT
DTSTART:20210328T030000
TZOFFSETFROM:+0100
TZOFFSETTO:+0200
TZNAME:CEST
END:DAYLIGHT
END:VTIMEZONE
END:VCALENDAR