BEGIN:VCALENDAR
VERSION:2.0
PRODID:-//wp-events-plugin.com//7.2.3.1//EN
TZID:Europe/Warsaw
X-WR-TIMEZONE:Europe/Warsaw
BEGIN:VEVENT
UID:42258@night4u.pl
DTSTART;TZID=Europe/Warsaw:20200110T200000
DTEND;TZID=Europe/Warsaw:20200111T040000
DTSTAMP:20200109T215818Z
URL:https://night4u.pl/wydarzenia/zolzy-bawia-sie-w-piatki-ladies-w-pewexi
 e-4/
SUMMARY:Zołzy Bawią się w piątki -Ladies w Pewexie
DESCRIPTION:Halo\, halo... czy są tu jakieś Zołzy? 😁\nSerdecznie zapr
 aszamy na Piątkowy cykl imprez dla Pań 💃❤️\n\nWszystkie Panie\, k
 tóre przyjdą do klubu do godz 23.00 wejdą za free! Dodatkowo niespodzia
 nka przy barze :-) kolorowe shoty\, piękne Panie\, taneczna atmosfera :) 
 tańce na barze 💃\nNic tak nie łączy jak wspólny taniec\, dobry drin
 k i radosny nastrój 🍹💃\n\nUWAGA! UWAGA!\nGrupy Pań powyżej 6 osó
 b będą uhonorowane butelką szampana 🍾\n\nTego dnia obowiązywać bę
 dą promocje na coctaile miłosne: Sex on the Beach\, Cosmopolitan- w mocn
 o okrojonych cenach :) \nPrzy hitach z lat 80\,90\,2000 zabawa do rana gwa
 rantowana! 💃\n\nSetny bilet -wygrywa butelkę szampana 🍾\n\nDress co
 de- klubowa elegancja.\nStart: 20:00\nMuzyka: 80\, 90\,2000 💃👯‍♀
 ️\n☎️ Rezerwacja loży: 501-701-434\n\nKlub Muzyczny Pewex\nŁódź\
 , ul. Narutowicza 28 \n\n\n❌ Wszyscy\,którzy wpiszą się na wydarzenie
 \, udostępnią je na osi czasu oraz zaproszą min 100 osób wejście free
  gwarantowane!
ATTACH;FMTTYPE=image/jpeg:https://night4u.pl/wp-content/uploads/2020/01/13
 2964_image_81951960_2623794777673877_9058884680727658496_n.jpg
CATEGORIES:łódzkie
LOCATION:Klub Muzyczny Pewex\, Łódź\, Poland
GEO:51.77122;19.46136
X-APPLE-STRUCTURED-LOCATION;VALUE=URI;X-ADDRESS=Łódź\, Poland;X-APPLE-RA
 DIUS=100;X-TITLE=Klub Muzyczny Pewex:geo:51.77122,19.46136
END:VEVENT
BEGIN:VTIMEZONE
TZID:Europe/Warsaw
X-LIC-LOCATION:Europe/Warsaw
BEGIN:STANDARD
DTSTART:20191027T020000
TZOFFSETFROM:+0200
TZOFFSETTO:+0100
TZNAME:CET
END:STANDARD
END:VTIMEZONE
END:VCALENDAR