BEGIN:VCALENDAR
VERSION:2.0
PRODID:-//wp-events-plugin.com//7.2.3.1//EN
TZID:Europe/Warsaw
X-WR-TIMEZONE:Europe/Warsaw
BEGIN:VEVENT
UID:4982@night4u.pl
DTSTART;TZID=Europe/Warsaw:20190126T230000
DTEND;TZID=Europe/Warsaw:20190127T050000
DTSTAMP:20190124T163117Z
URL:https://night4u.pl/wydarzenia/zona-the-official-opening-after-party/
SUMMARY:ZONA - The Official Opening After Party
DESCRIPTION:Podczas sobotniej imprezy świętować będziemy także otwarci
 e ZONA - Strefa tańca i urody?\n\nZONA to  STREFA TAŃCA I URODY- miejsce
  stworzone z myślą o kobietach i dla kobiet\, gdzie będą mogły zadba
 ć o swoją sylwetkę\, dać porwać się odrobinie szaleństwa w pięknym
 \, ekspresyjnym i zmysłowym tańcu\, zadbać o swoją urodę i garderobę
  na treningi\, a przy okazji spotkać się w gronie przyjaciółek.\n\nDre
 ss code:\nSmart Casual\n\nTable:\nMateusz 501 555 202\n\n\\ Cherry Club\nW
 rocław / ul. Kuźnicza 10
ATTACH;FMTTYPE=image/jpeg:https://night4u.pl/wp-content/uploads/2019/01/15
 802_image_50464562_1995300733840822_139622055283785728_o.jpg
CATEGORIES:dolnośląskie
LOCATION:Cherry CLUB Wrocław\, Wroclaw\, Poland
GEO:51.110983;17.033849
X-APPLE-STRUCTURED-LOCATION;VALUE=URI;X-ADDRESS=Wroclaw\, Poland;X-APPLE-RA
 DIUS=100;X-TITLE=Cherry CLUB Wrocław:geo:51.110983,17.033849
END:VEVENT
BEGIN:VTIMEZONE
TZID:Europe/Warsaw
X-LIC-LOCATION:Europe/Warsaw
BEGIN:STANDARD
DTSTART:20181028T020000
TZOFFSETFROM:+0200
TZOFFSETTO:+0100
TZNAME:CET
END:STANDARD
END:VTIMEZONE
END:VCALENDAR