BEGIN:VCALENDAR
VERSION:2.0
PRODID:-//wp-events-plugin.com//7.2.3.1//EN
TZID:Europe/Warsaw
X-WR-TIMEZONE:Europe/Warsaw
BEGIN:VEVENT
UID:20917@night4u.pl
DTSTART;TZID=Europe/Warsaw:20190709T230000
DTEND;TZID=Europe/Warsaw:20190710T050000
DTSTAMP:20190704T024023Z
URL:https://night4u.pl/wydarzenia/zrodlo-zdroj-v5/
SUMMARY:Źródło ZDRÓJ V5
DESCRIPTION:English description below...\n\nDomówka we wtorek? Chyba nie b
 rzmi źle\, prawda?\nTeż tak uważamy\, dlatego ekipa Źródło wraz z za
 przyjaźnionymi artystami chce dla Was właśnie taką domówkę urządzi
 ć!\nNiczym nieskrępowana zabawa u źródeł muzyki Acid/Electro/Funky/Gh
 etto/Disco/Ethno/Oriental/Tribal/House!\n\nPrawdziwy klimat CZERWONEJ zagw
 arantują:\n\nŹródło klika:\n- Bash Panda\n- Szyja / Suck My Neck\n\nSz
 anowny gość:\n- Kuzay (SoundTraffic)\n\nTo co? Widzimy się na Luzztrzan
 ym dywanie! \;)\n\n******\n\nParty at-home this Tuesday? Fancy that?\nSo d
 o we\, that’s why Źródło along with friendly artists will play one ju
 st for you!\nExpect an unchained euphory in rhythms of Acid/Electro/Funky/
 Ghetto/Disco/Ethno/Oriental/Tribal/House!\n\nThe true feeling of RED will 
 be guaranteed by:\n\nŹródło crew:\n- Bash Panda\n- Szyja / Suck My Neck
 \n\nGuest:\n- Kuzay (SoundTraffic)\n\nFeeling hooked? See you at the Luzzt
 ro carpet! \;)\n\nHosted by Źródło.
ATTACH;FMTTYPE=image/jpeg:https://night4u.pl/wp-content/uploads/2019/07/50
 045_image_65484451_2270720126344948_6819972260011442176_o.jpg
CATEGORIES:mazowieckie
LOCATION:Luzztro\, Aleje Jerozolimskie 6\, Warsaw\, 00-374\, Poland
GEO:52.232779;21.023655
X-APPLE-STRUCTURED-LOCATION;VALUE=URI;X-ADDRESS=Aleje Jerozolimskie 6\, War
 saw\, 00-374\, Poland;X-APPLE-RADIUS=100;X-TITLE=Luzztro:geo:52.232779,21.
 023655
END:VEVENT
BEGIN:VTIMEZONE
TZID:Europe/Warsaw
X-LIC-LOCATION:Europe/Warsaw
BEGIN:DAYLIGHT
DTSTART:20190331T030000
TZOFFSETFROM:+0100
TZOFFSETTO:+0200
TZNAME:CEST
END:DAYLIGHT
END:VTIMEZONE
END:VCALENDAR