BEGIN:VCALENDAR
VERSION:2.0
PRODID:-//wp-events-plugin.com//7.2.3.1//EN
TZID:Europe/Warsaw
X-WR-TIMEZONE:Europe/Warsaw
BEGIN:VEVENT
UID:13846@night4u.pl
DTSTART;TZID=Europe/Warsaw:20190511T211100
DTEND;TZID=Europe/Warsaw:20190512T051100
DTSTAMP:20190425T215737Z
URL:https://night4u.pl/wydarzenia/zycie-mnie-mnie-impreza-poetycka/
SUMMARY:Życie mnie mnie. Impreza poetycka
DESCRIPTION:"Odpisz cnotę na straty\, \nGdy wejdziesz do mej chaty"\nJan S
 ztaudynger od zawsze był naszym ulubionym poetą i tę imprezę poświęc
 amy wszystkim fanom poezji wszelakiej\, bo poeci jak mało kto czują blue
 sa i rytm. \nRezerwacja stolików\, kanapek i krzesełek piekna@pieknapszc
 zola.pl\, ☎ 696 43 23 53\n\nkarty klubowe i zaproszenia – za darmo\npo
 eci  – za darmo\nwierszokleci  – za 100 zł\npozostali - 15 zł\ndziec
 i poniżej 25 lat nie wchodzą\, bo nie potrafią prawidłowo zinterpretow
 ać naszych imprez\n??\n"Mądry nawet tej nie wierzy\,
ATTACH;FMTTYPE=image/jpeg:https://night4u.pl/wp-content/uploads/2019/04/34
 702_image_58574552_273247833427648_8221080799164760064_n.jpg
CATEGORIES:lubelskie
LOCATION:Piękna Pszczoła\, Plac Teatralny 1 (Budynek CSK)\, Lublin\, 20-0
 37\, Poland
GEO:51.246524;22.548666
X-APPLE-STRUCTURED-LOCATION;VALUE=URI;X-ADDRESS=Plac Teatralny 1 (Budynek C
 SK)\, Lublin\, 20-037\, Poland;X-APPLE-RADIUS=100;X-TITLE=Piękna Pszczoł
 a:geo:51.246524,22.548666
END:VEVENT
BEGIN:VTIMEZONE
TZID:Europe/Warsaw
X-LIC-LOCATION:Europe/Warsaw
BEGIN:DAYLIGHT
DTSTART:20190331T030000
TZOFFSETFROM:+0100
TZOFFSETTO:+0200
TZNAME:CEST
END:DAYLIGHT
END:VTIMEZONE
END:VCALENDAR