BEGIN:VCALENDAR
VERSION:2.0
PRODID:-//wp-events-plugin.com//7.2.3.1//EN
TZID:Europe/Warsaw
X-WR-TIMEZONE:Europe/Warsaw
BEGIN:VEVENT
UID:18975@night4u.pl
DTSTART;TZID=Europe/Warsaw:20190614T220000
DTEND;TZID=Europe/Warsaw:20190615T050000
DTSTAMP:20190611T180517Z
URL:https://night4u.pl/wydarzenia/zycie-zaczyna-sie-po-30-stce-piatek-14-0
 6-band30-live/
SUMMARY:Życie zaczyna się po 30-stce! // Piątek 14.06 // Band30+ Live!
DESCRIPTION:UWAGA! Klub otwieramy WYJĄTKOWO o godzinie 22:00 z powodu konc
 ertu grupy Chonabibe! Odbiór rezerwacji przedłużony do 23:00.\n\nKtoś 
 kiedyś powiedział\, że życie zaczyna się po... trzydziestce! Tak wię
 c wpadaj do najlepszego klubu dla trzydziestolatków w Lublinie i daj porw
 ać się zabawie. Muzyczną rozpustę zapewni nasz BAND30+!\n\nDo zobaczen
 ia na Jasnej 7!\n\nLINE-UP:\nBAND30+ LIVE/DJ YREK (70s 80s)\nALAN WHITE (T
 OP HITS)\n\n--------------------------------------------------------------
 ----------------------\nDla kogo jest Klub30 ? \nSzykujemy dla Was miejsce
 \, w którym bez problemu znajdziecie wspólny język z innymi klubowiczam
 i. Nie spotkasz tu swojej córki\, nie spotkasz tu swoich studentów...\nZ
 a to na pewno spotkasz ludzi\, którzy nie wyobrażają sobie siedzieć wi
 eczorem w domu.\n---------------------------------------------------------
 ---------------------------\nSTART: 22:00\n\nWSTĘP:\ndo 23:00 - 10PLN\npo
  23:00 - 15PLN\n\nRezerwacje: 574 649 583 (wtorek - sobota\, 16:00 - 19:00
 )\n\nW naszym klubie istnieje możliwość przygotowania cateringu! To św
 ietna opcja na wieczory panieńskie\, kawalerskie czy spotkania biznesowe.
  Jeżeli jesteś zainteresowany/a - powiadom nas o tym przy rezerwacji tel
 efonicznej!\n\nNajlepiej po trzydziestce... :) \nObowiązuje door selectio
 n
ATTACH;FMTTYPE=image/jpeg:https://night4u.pl/wp-content/uploads/2019/06/45
 891_image_62036454_2103354919957414_9023495172410834944_o.jpg
CATEGORIES:lubelskie
LOCATION:Klub30 Lublin\, Lublin\, Poland
GEO:51.249038;22.552872
X-APPLE-STRUCTURED-LOCATION;VALUE=URI;X-ADDRESS=Lublin\, Poland;X-APPLE-RAD
 IUS=100;X-TITLE=Klub30 Lublin:geo:51.249038,22.552872
END:VEVENT
BEGIN:VTIMEZONE
TZID:Europe/Warsaw
X-LIC-LOCATION:Europe/Warsaw
BEGIN:DAYLIGHT
DTSTART:20190331T030000
TZOFFSETFROM:+0100
TZOFFSETTO:+0200
TZNAME:CEST
END:DAYLIGHT
END:VTIMEZONE
END:VCALENDAR